BEGIN:VCALENDAR
VERSION:2.0
PRODID:-//Verdandi Eskilstuna - ECPv6.15.20//NONSGML v1.0//EN
CALSCALE:GREGORIAN
METHOD:PUBLISH
X-ORIGINAL-URL:https://verdandieskilstuna.se
X-WR-CALDESC:Händelser för Verdandi Eskilstuna
REFRESH-INTERVAL;VALUE=DURATION:PT1H
X-Robots-Tag:noindex
X-PUBLISHED-TTL:PT1H
BEGIN:VTIMEZONE
TZID:Europe/Stockholm
BEGIN:DAYLIGHT
TZOFFSETFROM:+0100
TZOFFSETTO:+0200
TZNAME:CEST
DTSTART:20250330T010000
END:DAYLIGHT
BEGIN:STANDARD
TZOFFSETFROM:+0200
TZOFFSETTO:+0100
TZNAME:CET
DTSTART:20251026T010000
END:STANDARD
BEGIN:DAYLIGHT
TZOFFSETFROM:+0100
TZOFFSETTO:+0200
TZNAME:CEST
DTSTART:20260329T010000
END:DAYLIGHT
BEGIN:STANDARD
TZOFFSETFROM:+0200
TZOFFSETTO:+0100
TZNAME:CET
DTSTART:20261025T010000
END:STANDARD
BEGIN:DAYLIGHT
TZOFFSETFROM:+0100
TZOFFSETTO:+0200
TZNAME:CEST
DTSTART:20270328T010000
END:DAYLIGHT
BEGIN:STANDARD
TZOFFSETFROM:+0200
TZOFFSETTO:+0100
TZNAME:CET
DTSTART:20271031T010000
END:STANDARD
END:VTIMEZONE
BEGIN:VEVENT
DTSTART;TZID=Europe/Stockholm:20260621T130000
DTEND;TZID=Europe/Stockholm:20260621T150000
DTSTAMP:20260425T162324
CREATED:20260319T094946Z
LAST-MODIFIED:20260319T095048Z
UID:3562-1782046800-1782054000@verdandieskilstuna.se
SUMMARY:Midsommarfirande
DESCRIPTION:Söndag 26 juni 13:00Dahls LogeNordankärr Katrineholm \n\n\n\nFöreningen bjuder på sommarlunch och fika \n\n\n\nEntré till dansen betalar man själv
URL:https://verdandieskilstuna.se/aktivitetskalender/midsommarfirande/
LOCATION:Dahls Loge\, Dahls Gård\, Katrineholm\, Södermanland\, 64196\, Sweden
CATEGORIES:Gruppaktivitet
ATTACH;FMTTYPE=image/jpeg:https://media.verdandieskilstuna.se/2026/03/summer-solstice-day-midsummer-litha-260nw-2639473801-kopia.jpg
END:VEVENT
BEGIN:VEVENT
DTSTART;TZID=Europe/Stockholm:20260621T150000
DTEND;TZID=Europe/Stockholm:20260621T183000
DTSTAMP:20260425T162324
CREATED:20260226T142920Z
LAST-MODIFIED:20260313T084508Z
UID:3434-1782054000-1782066600@verdandieskilstuna.se
SUMMARY:Logdans till Gideons
DESCRIPTION:
URL:https://verdandieskilstuna.se/aktivitetskalender/gideons/
LOCATION:Dahls Loge\, Dahls Gård\, Katrineholm\, Södermanland\, 64196\, Sweden
CATEGORIES:Logdans
ATTACH;FMTTYPE=image/jpeg:https://media.verdandieskilstuna.se/2025/01/dansband-sam-gideonsloggo.jpg
END:VEVENT
END:VCALENDAR