BEGIN:VCALENDAR
VERSION:2.0
PRODID:-//Verdandi Eskilstuna - ECPv6.15.20//NONSGML v1.0//EN
CALSCALE:GREGORIAN
METHOD:PUBLISH
X-ORIGINAL-URL:https://verdandieskilstuna.se
X-WR-CALDESC:Händelser för Verdandi Eskilstuna
REFRESH-INTERVAL;VALUE=DURATION:PT1H
X-Robots-Tag:noindex
X-PUBLISHED-TTL:PT1H
BEGIN:VTIMEZONE
TZID:Europe/Stockholm
BEGIN:DAYLIGHT
TZOFFSETFROM:+0100
TZOFFSETTO:+0200
TZNAME:CEST
DTSTART:20250330T010000
END:DAYLIGHT
BEGIN:STANDARD
TZOFFSETFROM:+0200
TZOFFSETTO:+0100
TZNAME:CET
DTSTART:20251026T010000
END:STANDARD
BEGIN:DAYLIGHT
TZOFFSETFROM:+0100
TZOFFSETTO:+0200
TZNAME:CEST
DTSTART:20260329T010000
END:DAYLIGHT
BEGIN:STANDARD
TZOFFSETFROM:+0200
TZOFFSETTO:+0100
TZNAME:CET
DTSTART:20261025T010000
END:STANDARD
BEGIN:DAYLIGHT
TZOFFSETFROM:+0100
TZOFFSETTO:+0200
TZNAME:CEST
DTSTART:20270328T010000
END:DAYLIGHT
BEGIN:STANDARD
TZOFFSETFROM:+0200
TZOFFSETTO:+0100
TZNAME:CET
DTSTART:20271031T010000
END:STANDARD
END:VTIMEZONE
BEGIN:VEVENT
DTSTART;TZID=Europe/Stockholm:20260703T120000
DTEND;TZID=Europe/Stockholm:20260703T150000
DTSTAMP:20260425T162526
CREATED:20260319T093217Z
LAST-MODIFIED:20260319T093219Z
UID:3546-1783080000-1783090800@verdandieskilstuna.se
SUMMARY:Gubbfikat bjuder in till sillsexa
DESCRIPTION:Fredag 3 juli 12:00Föreningslokalen \n\n\n\nKostnad: 40:-Anmälan senast 29/6
URL:https://verdandieskilstuna.se/aktivitetskalender/gubbfikat-bjuder-in-till-sillsexa/
ATTACH;FMTTYPE=image/jpeg:https://media.verdandieskilstuna.se/2025/01/09d22569-891e-4cc5-8fa9-e7f4d4a05559.jpg
END:VEVENT
END:VCALENDAR