BEGIN:VCALENDAR
VERSION:2.0
PRODID:-//Verdandi Eskilstuna - ECPv6.15.20//NONSGML v1.0//EN
CALSCALE:GREGORIAN
METHOD:PUBLISH
X-WR-CALNAME:Verdandi Eskilstuna
X-ORIGINAL-URL:https://verdandieskilstuna.se
X-WR-CALDESC:Händelser för Verdandi Eskilstuna
REFRESH-INTERVAL;VALUE=DURATION:PT1H
X-Robots-Tag:noindex
X-PUBLISHED-TTL:PT1H
BEGIN:VTIMEZONE
TZID:Europe/Stockholm
BEGIN:DAYLIGHT
TZOFFSETFROM:+0100
TZOFFSETTO:+0200
TZNAME:CEST
DTSTART:20240331T010000
END:DAYLIGHT
BEGIN:STANDARD
TZOFFSETFROM:+0200
TZOFFSETTO:+0100
TZNAME:CET
DTSTART:20241027T010000
END:STANDARD
BEGIN:DAYLIGHT
TZOFFSETFROM:+0100
TZOFFSETTO:+0200
TZNAME:CEST
DTSTART:20250330T010000
END:DAYLIGHT
BEGIN:STANDARD
TZOFFSETFROM:+0200
TZOFFSETTO:+0100
TZNAME:CET
DTSTART:20251026T010000
END:STANDARD
BEGIN:DAYLIGHT
TZOFFSETFROM:+0100
TZOFFSETTO:+0200
TZNAME:CEST
DTSTART:20260329T010000
END:DAYLIGHT
BEGIN:STANDARD
TZOFFSETFROM:+0200
TZOFFSETTO:+0100
TZNAME:CET
DTSTART:20261025T010000
END:STANDARD
END:VTIMEZONE
BEGIN:VEVENT
DTSTART;TZID=Europe/Stockholm:20250610T180000
DTEND;TZID=Europe/Stockholm:20250610T203000
DTSTAMP:20260422T110157
CREATED:20250512T125113Z
LAST-MODIFIED:20250512T125114Z
UID:3173-1749578400-1749587400@verdandieskilstuna.se
SUMMARY:Historiska Klubben utflykt
DESCRIPTION:Historisk vandring på KöpmangatanTisdag 10/6 kl 18:00Samling på RådhustorgetVi gör en vandring och får en återblick till 45-50-talet och hur det var att växa upp på Köpmangatan.Medtag eget fika
URL:https://verdandieskilstuna.se/aktivitetskalender/historiska-klubben-utflykt-10/
LOCATION:Rådhustorget\, Rådhustorget\, Eskilstuna\, Södermanland\, 63340\, Sweden
CATEGORIES:Utflykter
ATTACH;FMTTYPE=image/jpeg:https://media.verdandieskilstuna.se/2025/05/af698318-5a44-410c-8daf-189c9daf27ac.jpg
END:VEVENT
END:VCALENDAR