BEGIN:VCALENDAR
VERSION:2.0
PRODID:-//Verdandi Eskilstuna - ECPv6.15.20//NONSGML v1.0//EN
CALSCALE:GREGORIAN
METHOD:PUBLISH
X-ORIGINAL-URL:https://verdandieskilstuna.se
X-WR-CALDESC:Händelser för Verdandi Eskilstuna
REFRESH-INTERVAL;VALUE=DURATION:PT1H
X-Robots-Tag:noindex
X-PUBLISHED-TTL:PT1H
BEGIN:VTIMEZONE
TZID:Europe/Stockholm
BEGIN:DAYLIGHT
TZOFFSETFROM:+0100
TZOFFSETTO:+0200
TZNAME:CEST
DTSTART:20250330T010000
END:DAYLIGHT
BEGIN:STANDARD
TZOFFSETFROM:+0200
TZOFFSETTO:+0100
TZNAME:CET
DTSTART:20251026T010000
END:STANDARD
BEGIN:DAYLIGHT
TZOFFSETFROM:+0100
TZOFFSETTO:+0200
TZNAME:CEST
DTSTART:20260329T010000
END:DAYLIGHT
BEGIN:STANDARD
TZOFFSETFROM:+0200
TZOFFSETTO:+0100
TZNAME:CET
DTSTART:20261025T010000
END:STANDARD
BEGIN:DAYLIGHT
TZOFFSETFROM:+0100
TZOFFSETTO:+0200
TZNAME:CEST
DTSTART:20270328T010000
END:DAYLIGHT
BEGIN:STANDARD
TZOFFSETFROM:+0200
TZOFFSETTO:+0100
TZNAME:CET
DTSTART:20271031T010000
END:STANDARD
END:VTIMEZONE
BEGIN:VEVENT
DTSTART;TZID=Europe/Stockholm:20260510T120000
DTEND;TZID=Europe/Stockholm:20260510T193000
DTSTAMP:20260422T163135
CREATED:20260313T080424Z
LAST-MODIFIED:20260406T164311Z
UID:3512-1778414400-1778441400@verdandieskilstuna.se
SUMMARY:Vårfest i Vingåker Folkets Park
DESCRIPTION:Marknad\, lotterier Finns att köpa:Grillade hamburgare\, korv med bröd och fikaUnderhållningAnna Jetz Trio underhåller med musikalisk frågesport och Allsång som förenar \n\n\n\nMogendans till Engdahls från kl 16:00 (entré 160:-)
URL:https://verdandieskilstuna.se/aktivitetskalender/varfest-i-vingaker-folkets-park/
LOCATION:Vingåker Folket Park\, Vikingavägen 38\, Vingåker\, 64333\, Sweden
CATEGORIES:Utflykter
ATTACH;FMTTYPE=image/jpeg:https://media.verdandieskilstuna.se/2025/03/02f2fbfa-1bcd-42c8-aa41-b1badcb17308.jpg
END:VEVENT
END:VCALENDAR