BEGIN:VCALENDAR
VERSION:2.0
PRODID:-//Verdandi Eskilstuna - ECPv6.15.20//NONSGML v1.0//EN
CALSCALE:GREGORIAN
METHOD:PUBLISH
X-ORIGINAL-URL:https://verdandieskilstuna.se
X-WR-CALDESC:Händelser för Verdandi Eskilstuna
REFRESH-INTERVAL;VALUE=DURATION:PT1H
X-Robots-Tag:noindex
X-PUBLISHED-TTL:PT1H
BEGIN:VTIMEZONE
TZID:Europe/Stockholm
BEGIN:DAYLIGHT
TZOFFSETFROM:+0100
TZOFFSETTO:+0200
TZNAME:CEST
DTSTART:20250330T010000
END:DAYLIGHT
BEGIN:STANDARD
TZOFFSETFROM:+0200
TZOFFSETTO:+0100
TZNAME:CET
DTSTART:20251026T010000
END:STANDARD
BEGIN:DAYLIGHT
TZOFFSETFROM:+0100
TZOFFSETTO:+0200
TZNAME:CEST
DTSTART:20260329T010000
END:DAYLIGHT
BEGIN:STANDARD
TZOFFSETFROM:+0200
TZOFFSETTO:+0100
TZNAME:CET
DTSTART:20261025T010000
END:STANDARD
BEGIN:DAYLIGHT
TZOFFSETFROM:+0100
TZOFFSETTO:+0200
TZNAME:CEST
DTSTART:20270328T010000
END:DAYLIGHT
BEGIN:STANDARD
TZOFFSETFROM:+0200
TZOFFSETTO:+0100
TZNAME:CET
DTSTART:20271031T010000
END:STANDARD
END:VTIMEZONE
BEGIN:VEVENT
DTSTART;TZID=Europe/Stockholm:20260526T180000
DTEND;TZID=Europe/Stockholm:20260526T203000
DTSTAMP:20260422T164008
CREATED:20260421T112618Z
LAST-MODIFIED:20260421T113135Z
UID:3580-1779818400-1779827400@verdandieskilstuna.se
SUMMARY:Historiska Klubben: Utflykt till Barva Socken
DESCRIPTION:Samling vid Eskilstuna Golfklubb \n\n\n\nDenna kväll åker vi till Barva socken. Vi besöker den gamla kyrkan med anor från 1100-talet samt åker vi vidare till Barva gravfält. Under besöket tar vi en fika så medtag egen fikakorg. 
URL:https://verdandieskilstuna.se/aktivitetskalender/utflykt-till-barva-socken/
CATEGORIES:Utflykter
ATTACH;FMTTYPE=image/jpeg:https://media.verdandieskilstuna.se/2026/04/Barva_kyrka.jpg
END:VEVENT
END:VCALENDAR