BEGIN:VCALENDAR
VERSION:2.0
PRODID:-//Verdandi Eskilstuna - ECPv6.15.20//NONSGML v1.0//EN
CALSCALE:GREGORIAN
METHOD:PUBLISH
X-WR-CALNAME:Verdandi Eskilstuna
X-ORIGINAL-URL:https://verdandieskilstuna.se
X-WR-CALDESC:Händelser för Verdandi Eskilstuna
REFRESH-INTERVAL;VALUE=DURATION:PT1H
X-Robots-Tag:noindex
X-PUBLISHED-TTL:PT1H
BEGIN:VTIMEZONE
TZID:Europe/Stockholm
BEGIN:DAYLIGHT
TZOFFSETFROM:+0100
TZOFFSETTO:+0200
TZNAME:CEST
DTSTART:20240331T010000
END:DAYLIGHT
BEGIN:STANDARD
TZOFFSETFROM:+0200
TZOFFSETTO:+0100
TZNAME:CET
DTSTART:20241027T010000
END:STANDARD
BEGIN:DAYLIGHT
TZOFFSETFROM:+0100
TZOFFSETTO:+0200
TZNAME:CEST
DTSTART:20250330T010000
END:DAYLIGHT
BEGIN:STANDARD
TZOFFSETFROM:+0200
TZOFFSETTO:+0100
TZNAME:CET
DTSTART:20251026T010000
END:STANDARD
BEGIN:DAYLIGHT
TZOFFSETFROM:+0100
TZOFFSETTO:+0200
TZNAME:CEST
DTSTART:20260329T010000
END:DAYLIGHT
BEGIN:STANDARD
TZOFFSETFROM:+0200
TZOFFSETTO:+0100
TZNAME:CET
DTSTART:20261025T010000
END:STANDARD
END:VTIMEZONE
BEGIN:VEVENT
DTSTART;TZID=Europe/Stockholm:20251005T100000
DTEND;TZID=Europe/Stockholm:20251005T120000
DTSTAMP:20260426T055407
CREATED:20250911T102557Z
LAST-MODIFIED:20250911T102558Z
UID:3227-1759658400-1759665600@verdandieskilstuna.se
SUMMARY:Dansgympa
DESCRIPTION:Vi rör oss rytmiskt efter musik– rörelse ger glädje.Kostnadsfritt för medlemmar \n\n\n\nÖvriga 30:-/ tillfälle \n\n\n\nIngen anmälan krävs
URL:https://verdandieskilstuna.se/aktivitetskalender/dansgympa-10/
LOCATION:Hallströmsgatan 1\, Hallströmsgatan 1\, Eskilstuna\, Södermanland\, 63349\, Sweden
CATEGORIES:Dansgympa
ATTACH;FMTTYPE=image/png:https://media.verdandieskilstuna.se/2024/10/dansgympa.png
END:VEVENT
BEGIN:VEVENT
DTSTART;TZID=Europe/Stockholm:20251010T100000
DTEND;TZID=Europe/Stockholm:20251010T120000
DTSTAMP:20260426T055407
CREATED:20250911T101155Z
LAST-MODIFIED:20250911T101201Z
UID:3203-1760090400-1760097600@verdandieskilstuna.se
SUMMARY:Gubbfika
DESCRIPTION:Vi träffas\, fikar och pratar.
URL:https://verdandieskilstuna.se/aktivitetskalender/gubbfika-3/
LOCATION:Hallströmsgatan 1\, Hallströmsgatan 1\, Eskilstuna\, Södermanland\, 63349\, Sweden
CATEGORIES:Fika i lokalen
ATTACH;FMTTYPE=image/jpeg:https://media.verdandieskilstuna.se/2025/01/09d22569-891e-4cc5-8fa9-e7f4d4a05559.jpg
END:VEVENT
BEGIN:VEVENT
DTSTART;TZID=Europe/Stockholm:20251012T100000
DTEND;TZID=Europe/Stockholm:20251012T120000
DTSTAMP:20260426T055407
CREATED:20250911T102711Z
LAST-MODIFIED:20250911T102713Z
UID:3229-1760263200-1760270400@verdandieskilstuna.se
SUMMARY:Dansgympa
DESCRIPTION:Vi rör oss rytmiskt efter musik– rörelse ger glädje.Kostnadsfritt för medlemmar \n\n\n\nÖvriga 30:-/ tillfälle \n\n\n\nIngen anmälan krävs
URL:https://verdandieskilstuna.se/aktivitetskalender/dansgympa-11/
LOCATION:Hallströmsgatan 1\, Hallströmsgatan 1\, Eskilstuna\, Södermanland\, 63349\, Sweden
CATEGORIES:Dansgympa
ATTACH;FMTTYPE=image/png:https://media.verdandieskilstuna.se/2024/10/dansgympa.png
END:VEVENT
BEGIN:VEVENT
DTSTART;TZID=Europe/Stockholm:20251017T100000
DTEND;TZID=Europe/Stockholm:20251017T120000
DTSTAMP:20260426T055407
CREATED:20250911T101356Z
LAST-MODIFIED:20250911T101358Z
UID:3205-1760695200-1760702400@verdandieskilstuna.se
SUMMARY:Gubbfika
DESCRIPTION:Vi träffas\, fikar och pratar.
URL:https://verdandieskilstuna.se/aktivitetskalender/gubbfika-4/
LOCATION:Hallströmsgatan 1\, Hallströmsgatan 1\, Eskilstuna\, Södermanland\, 63349\, Sweden
CATEGORIES:Fika i lokalen
ATTACH;FMTTYPE=image/jpeg:https://media.verdandieskilstuna.se/2025/01/09d22569-891e-4cc5-8fa9-e7f4d4a05559.jpg
END:VEVENT
BEGIN:VEVENT
DTSTART;TZID=Europe/Stockholm:20251019T100000
DTEND;TZID=Europe/Stockholm:20251019T120000
DTSTAMP:20260426T055407
CREATED:20250911T102808Z
LAST-MODIFIED:20250911T102811Z
UID:3231-1760868000-1760875200@verdandieskilstuna.se
SUMMARY:Dansgympa
DESCRIPTION:Vi rör oss rytmiskt efter musik– rörelse ger glädje.Kostnadsfritt för medlemmar \n\n\n\nÖvriga 30:-/ tillfälle \n\n\n\nIngen anmälan krävs
URL:https://verdandieskilstuna.se/aktivitetskalender/dansgympa-12/
LOCATION:Hallströmsgatan 1\, Hallströmsgatan 1\, Eskilstuna\, Södermanland\, 63349\, Sweden
CATEGORIES:Dansgympa
ATTACH;FMTTYPE=image/png:https://media.verdandieskilstuna.se/2024/10/dansgympa.png
END:VEVENT
BEGIN:VEVENT
DTSTART;TZID=Europe/Stockholm:20251024T100000
DTEND;TZID=Europe/Stockholm:20251024T120000
DTSTAMP:20260426T055407
CREATED:20250911T101446Z
LAST-MODIFIED:20250911T101448Z
UID:3207-1761300000-1761307200@verdandieskilstuna.se
SUMMARY:Gubbfika
DESCRIPTION:Vi träffas\, fikar och pratar.
URL:https://verdandieskilstuna.se/aktivitetskalender/gubbfika-5/
LOCATION:Hallströmsgatan 1\, Hallströmsgatan 1\, Eskilstuna\, Södermanland\, 63349\, Sweden
CATEGORIES:Fika i lokalen
ATTACH;FMTTYPE=image/jpeg:https://media.verdandieskilstuna.se/2025/01/09d22569-891e-4cc5-8fa9-e7f4d4a05559.jpg
END:VEVENT
BEGIN:VEVENT
DTSTART;TZID=Europe/Stockholm:20251024T130000
DTEND;TZID=Europe/Stockholm:20251024T150000
DTSTAMP:20260426T055407
CREATED:20251015T183106Z
LAST-MODIFIED:20251015T183107Z
UID:3259-1761310800-1761318000@verdandieskilstuna.se
SUMMARY:Fredagsmys på Biltema
DESCRIPTION:24 oktober 13:00Biltema EskilstunaVi träffas i cafeterian\, äter räkmacka och fikar tillsammans. (Du betalar själv)
URL:https://verdandieskilstuna.se/aktivitetskalender/fredagsmys-pa-biltema/
LOCATION:Biltema Eskilstuna\, Vicusgatan 12 B\, Eskilstuna\, 633 54\, Sweden
CATEGORIES:Gruppaktivitet
ATTACH;FMTTYPE=image/jpeg:https://media.verdandieskilstuna.se/2025/10/dd5a13e1-d28c-42fc-84ab-4989f639e6f7.jpg
END:VEVENT
BEGIN:VEVENT
DTSTART;TZID=Europe/Stockholm:20251026T100000
DTEND;TZID=Europe/Stockholm:20251026T120000
DTSTAMP:20260426T055407
CREATED:20250911T102917Z
LAST-MODIFIED:20250911T102918Z
UID:3233-1761472800-1761480000@verdandieskilstuna.se
SUMMARY:Dansgympa
DESCRIPTION:Vi rör oss rytmiskt efter musik– rörelse ger glädje.Kostnadsfritt för medlemmar \n\n\n\nÖvriga 30:-/ tillfälle \n\n\n\nIngen anmälan krävs
URL:https://verdandieskilstuna.se/aktivitetskalender/dansgympa-13/
LOCATION:Hallströmsgatan 1\, Hallströmsgatan 1\, Eskilstuna\, Södermanland\, 63349\, Sweden
CATEGORIES:Dansgympa
ATTACH;FMTTYPE=image/png:https://media.verdandieskilstuna.se/2024/10/dansgympa.png
END:VEVENT
BEGIN:VEVENT
DTSTART;TZID=Europe/Stockholm:20251031T100000
DTEND;TZID=Europe/Stockholm:20251031T120000
DTSTAMP:20260426T055407
CREATED:20250911T101548Z
LAST-MODIFIED:20250911T101550Z
UID:3209-1761904800-1761912000@verdandieskilstuna.se
SUMMARY:Gubbfika
DESCRIPTION:Vi träffas\, fikar och pratar.
URL:https://verdandieskilstuna.se/aktivitetskalender/gubbfika-6/
LOCATION:Hallströmsgatan 1\, Hallströmsgatan 1\, Eskilstuna\, Södermanland\, 63349\, Sweden
CATEGORIES:Fika i lokalen
ATTACH;FMTTYPE=image/jpeg:https://media.verdandieskilstuna.se/2025/01/09d22569-891e-4cc5-8fa9-e7f4d4a05559.jpg
END:VEVENT
BEGIN:VEVENT
DTSTART;TZID=Europe/Stockholm:20251102T100000
DTEND;TZID=Europe/Stockholm:20251102T120000
DTSTAMP:20260426T055407
CREATED:20250911T103133Z
LAST-MODIFIED:20251028T130712Z
UID:3235-1762077600-1762084800@verdandieskilstuna.se
SUMMARY:Dansgympa
DESCRIPTION:Vi rör oss rytmiskt efter musik– rörelse ger glädje.Kostnadsfritt för medlemmar \n\n\n\nÖvriga 30:-/ tillfälle \n\n\n\nIngen anmälan krävs
URL:https://verdandieskilstuna.se/aktivitetskalender/3235/
LOCATION:Hallströmsgatan 1\, Hallströmsgatan 1\, Eskilstuna\, Södermanland\, 63349\, Sweden
CATEGORIES:Dansgympa
ATTACH;FMTTYPE=image/png:https://media.verdandieskilstuna.se/2024/10/dansgympa.png
END:VEVENT
BEGIN:VEVENT
DTSTART;TZID=Europe/Stockholm:20251102T113000
DTEND;TZID=Europe/Stockholm:20251102T150000
DTSTAMP:20260426T055407
CREATED:20251029T102742Z
LAST-MODIFIED:20251029T102744Z
UID:3285-1762083000-1762095600@verdandieskilstuna.se
SUMMARY:Allhelgonamys!
DESCRIPTION:11:30 Vi träffas vid föreningslokalen för gemensam lunch på Sveaplan. Bekostas av dig själv. \n\n\n\n13:00-15:00Samvaro i föreningslokalen med bingo med roliga priser\, sällskapsspel\, pussel och fika.Kostnad: 20:- per person.
URL:https://verdandieskilstuna.se/aktivitetskalender/allhelgonamys/
LOCATION:Hallströmsgatan 1\, Hallströmsgatan 1\, Eskilstuna\, Södermanland\, 63349\, Sweden
CATEGORIES:Fika i lokalen
ATTACH;FMTTYPE=image/jpeg:https://media.verdandieskilstuna.se/2025/10/origins-of-Halloween-explained.jpg.jpeg
END:VEVENT
BEGIN:VEVENT
DTSTART;TZID=Europe/Stockholm:20251107T100000
DTEND;TZID=Europe/Stockholm:20251107T120000
DTSTAMP:20260426T055407
CREATED:20250911T101648Z
LAST-MODIFIED:20250911T101649Z
UID:3211-1762509600-1762516800@verdandieskilstuna.se
SUMMARY:Gubbfika
DESCRIPTION:Vi träffas\, fikar och pratar.
URL:https://verdandieskilstuna.se/aktivitetskalender/gubbfika-7/
LOCATION:Hallströmsgatan 1\, Hallströmsgatan 1\, Eskilstuna\, Södermanland\, 63349\, Sweden
CATEGORIES:Fika i lokalen
ATTACH;FMTTYPE=image/jpeg:https://media.verdandieskilstuna.se/2025/01/09d22569-891e-4cc5-8fa9-e7f4d4a05559.jpg
END:VEVENT
BEGIN:VEVENT
DTSTART;TZID=Europe/Stockholm:20251109T100000
DTEND;TZID=Europe/Stockholm:20251109T120000
DTSTAMP:20260426T055407
CREATED:20250911T103251Z
LAST-MODIFIED:20250911T103254Z
UID:3237-1762682400-1762689600@verdandieskilstuna.se
SUMMARY:Dansgympa
DESCRIPTION:Vi rör oss rytmiskt efter musik– rörelse ger glädje.Kostnadsfritt för medlemmar \n\n\n\nÖvriga 30:-/ tillfälle \n\n\n\nIngen anmälan krävs
URL:https://verdandieskilstuna.se/aktivitetskalender/dansgympa-14/
LOCATION:Hallströmsgatan 1\, Hallströmsgatan 1\, Eskilstuna\, Södermanland\, 63349\, Sweden
CATEGORIES:Dansgympa
ATTACH;FMTTYPE=image/png:https://media.verdandieskilstuna.se/2024/10/dansgympa.png
END:VEVENT
BEGIN:VEVENT
DTSTART;TZID=Europe/Stockholm:20251111T140000
DTEND;TZID=Europe/Stockholm:20251111T160000
DTSTAMP:20260426T055407
CREATED:20251029T103401Z
LAST-MODIFIED:20251029T103727Z
UID:3291-1762869600-1762876800@verdandieskilstuna.se
SUMMARY:Canasta
DESCRIPTION:Tisdagar jämna veckor Vi träffas och lär oss spela kortspelet Canasta.Kostnadsfritt för medlemmarÖvriga 30:-/tillfälle
URL:https://verdandieskilstuna.se/aktivitetskalender/canasta/
LOCATION:Hallströmsgatan 1\, Hallströmsgatan 1\, Eskilstuna\, Södermanland\, 63349\, Sweden
CATEGORIES:Canasta
ATTACH;FMTTYPE=image/jpeg:https://media.verdandieskilstuna.se/2025/01/f344ce85-6ecb-459e-b35e-a3fb548ca140.jpg
END:VEVENT
BEGIN:VEVENT
DTSTART;TZID=Europe/Stockholm:20251114T100000
DTEND;TZID=Europe/Stockholm:20251114T120000
DTSTAMP:20260426T055407
CREATED:20250911T101758Z
LAST-MODIFIED:20250911T101800Z
UID:3213-1763114400-1763121600@verdandieskilstuna.se
SUMMARY:Gubbfika
DESCRIPTION:Vi träffas\, fikar och pratar.
URL:https://verdandieskilstuna.se/aktivitetskalender/gubbfika-8/
LOCATION:Hallströmsgatan 1\, Hallströmsgatan 1\, Eskilstuna\, Södermanland\, 63349\, Sweden
CATEGORIES:Fika i lokalen
ATTACH;FMTTYPE=image/jpeg:https://media.verdandieskilstuna.se/2025/01/09d22569-891e-4cc5-8fa9-e7f4d4a05559.jpg
END:VEVENT
BEGIN:VEVENT
DTSTART;TZID=Europe/Stockholm:20251115T163000
DTEND;TZID=Europe/Stockholm:20251115T210000
DTSTAMP:20260426T055407
CREATED:20251015T183423Z
LAST-MODIFIED:20251029T102521Z
UID:3262-1763224200-1763240400@verdandieskilstuna.se
SUMMARY:Tacos\, underhållning och dans
DESCRIPTION:Tacobuffé\, underhållning\, och dans \n\n\n\nLördag 15 november 16:30 – 21:00Vi börjar med tacobuffé kl 16:30Lagerkvistgatan 2\, EskilstunaMed Bigge och Peppe (duo från Kjellez orkester)Dans 18:00-21:00 \n\n\n\nKostnad:Dans och mat 200:-Enbart dans 150:-Enbart tacos 50:- \n\n\n\nOm du ska äta måste du anmäla dig senast 10 november!
URL:https://verdandieskilstuna.se/aktivitetskalender/underhallning-dans-och-taccos/
LOCATION:Lagerkvistgatan\, Lagerkvistgatan 2\, Eskilstuna\, Södermanland\, 63346\, Sweden
CATEGORIES:Mogendans
ATTACH;FMTTYPE=image/jpeg:https://media.verdandieskilstuna.se/2025/10/e341f557-e47f-4201-a5a6-0493b57613da.jpg
END:VEVENT
BEGIN:VEVENT
DTSTART;TZID=Europe/Stockholm:20251116T100000
DTEND;TZID=Europe/Stockholm:20251116T120000
DTSTAMP:20260426T055407
CREATED:20250911T103353Z
LAST-MODIFIED:20250911T103408Z
UID:3239-1763287200-1763294400@verdandieskilstuna.se
SUMMARY:Dansgympa
DESCRIPTION:Vi rör oss rytmiskt efter musik– rörelse ger glädje.Kostnadsfritt för medlemmar \n\n\n\nÖvriga 30:-/ tillfälle \n\n\n\nIngen anmälan krävs
URL:https://verdandieskilstuna.se/aktivitetskalender/3239/
LOCATION:Hallströmsgatan 1\, Hallströmsgatan 1\, Eskilstuna\, Södermanland\, 63349\, Sweden
CATEGORIES:Dansgympa
ATTACH;FMTTYPE=image/png:https://media.verdandieskilstuna.se/2024/10/dansgympa.png
END:VEVENT
BEGIN:VEVENT
DTSTART;TZID=Europe/Stockholm:20251121T100000
DTEND;TZID=Europe/Stockholm:20251121T120000
DTSTAMP:20260426T055407
CREATED:20250911T101845Z
LAST-MODIFIED:20250911T101846Z
UID:3215-1763719200-1763726400@verdandieskilstuna.se
SUMMARY:Gubbfika
DESCRIPTION:Vi träffas\, fikar och pratar.
URL:https://verdandieskilstuna.se/aktivitetskalender/gubbfika-9/
LOCATION:Hallströmsgatan 1\, Hallströmsgatan 1\, Eskilstuna\, Södermanland\, 63349\, Sweden
CATEGORIES:Fika i lokalen
ATTACH;FMTTYPE=image/jpeg:https://media.verdandieskilstuna.se/2025/01/09d22569-891e-4cc5-8fa9-e7f4d4a05559.jpg
END:VEVENT
BEGIN:VEVENT
DTSTART;TZID=Europe/Stockholm:20251123T100000
DTEND;TZID=Europe/Stockholm:20251123T120000
DTSTAMP:20260426T055407
CREATED:20250911T103523Z
LAST-MODIFIED:20250911T103524Z
UID:3243-1763892000-1763899200@verdandieskilstuna.se
SUMMARY:Dansgympa
DESCRIPTION:Vi rör oss rytmiskt efter musik– rörelse ger glädje.Kostnadsfritt för medlemmar \n\n\n\nÖvriga 30:-/ tillfälle \n\n\n\nIngen anmälan krävs
URL:https://verdandieskilstuna.se/aktivitetskalender/dansgympa-15/
LOCATION:Hallströmsgatan 1\, Hallströmsgatan 1\, Eskilstuna\, Södermanland\, 63349\, Sweden
CATEGORIES:Dansgympa
ATTACH;FMTTYPE=image/png:https://media.verdandieskilstuna.se/2024/10/dansgympa.png
END:VEVENT
BEGIN:VEVENT
DTSTART;TZID=Europe/Stockholm:20251125T140000
DTEND;TZID=Europe/Stockholm:20251125T160000
DTSTAMP:20260426T055407
CREATED:20251029T103502Z
LAST-MODIFIED:20251029T103717Z
UID:3293-1764079200-1764086400@verdandieskilstuna.se
SUMMARY:Canasta
DESCRIPTION:Tisdagar jämna veckor Vi träffas och lär oss spela kortspelet Canasta.Kostnadsfritt för medlemmarÖvriga 30:-/tillfälle
URL:https://verdandieskilstuna.se/aktivitetskalender/canasta-2/
LOCATION:Hallströmsgatan 1\, Hallströmsgatan 1\, Eskilstuna\, Södermanland\, 63349\, Sweden
CATEGORIES:Canasta
ATTACH;FMTTYPE=image/jpeg:https://media.verdandieskilstuna.se/2025/01/f344ce85-6ecb-459e-b35e-a3fb548ca140.jpg
END:VEVENT
BEGIN:VEVENT
DTSTART;TZID=Europe/Stockholm:20251128T100000
DTEND;TZID=Europe/Stockholm:20251128T120000
DTSTAMP:20260426T055407
CREATED:20250911T101940Z
LAST-MODIFIED:20250911T101941Z
UID:3217-1764324000-1764331200@verdandieskilstuna.se
SUMMARY:Gubbfika
DESCRIPTION:Vi träffas\, fikar och pratar.
URL:https://verdandieskilstuna.se/aktivitetskalender/gubbfika-10/
LOCATION:Hallströmsgatan 1\, Hallströmsgatan 1\, Eskilstuna\, Södermanland\, 63349\, Sweden
CATEGORIES:Fika i lokalen
ATTACH;FMTTYPE=image/jpeg:https://media.verdandieskilstuna.se/2025/01/09d22569-891e-4cc5-8fa9-e7f4d4a05559.jpg
END:VEVENT
BEGIN:VEVENT
DTSTART;TZID=Europe/Stockholm:20251130T100000
DTEND;TZID=Europe/Stockholm:20251130T120000
DTSTAMP:20260426T055407
CREATED:20250911T103621Z
LAST-MODIFIED:20250911T103623Z
UID:3245-1764496800-1764504000@verdandieskilstuna.se
SUMMARY:Dansgympa
DESCRIPTION:Vi rör oss rytmiskt efter musik– rörelse ger glädje.Kostnadsfritt för medlemmar \n\n\n\nÖvriga 30:-/ tillfälle \n\n\n\nIngen anmälan krävs
URL:https://verdandieskilstuna.se/aktivitetskalender/dansgympa-16/
LOCATION:Hallströmsgatan 1\, Hallströmsgatan 1\, Eskilstuna\, Södermanland\, 63349\, Sweden
CATEGORIES:Dansgympa
ATTACH;FMTTYPE=image/png:https://media.verdandieskilstuna.se/2024/10/dansgympa.png
END:VEVENT
BEGIN:VEVENT
DTSTART;TZID=Europe/Stockholm:20251205T100000
DTEND;TZID=Europe/Stockholm:20251205T120000
DTSTAMP:20260426T055407
CREATED:20250911T102046Z
LAST-MODIFIED:20250911T102053Z
UID:3219-1764928800-1764936000@verdandieskilstuna.se
SUMMARY:Gubbfika
DESCRIPTION:Vi träffas\, fikar och pratar.
URL:https://verdandieskilstuna.se/aktivitetskalender/gubbfika-11/
LOCATION:Hallströmsgatan 1\, Hallströmsgatan 1\, Eskilstuna\, Södermanland\, 63349\, Sweden
CATEGORIES:Fika i lokalen
ATTACH;FMTTYPE=image/jpeg:https://media.verdandieskilstuna.se/2025/01/09d22569-891e-4cc5-8fa9-e7f4d4a05559.jpg
END:VEVENT
BEGIN:VEVENT
DTSTART;TZID=Europe/Stockholm:20251207T100000
DTEND;TZID=Europe/Stockholm:20251207T120000
DTSTAMP:20260426T055407
CREATED:20250911T103739Z
LAST-MODIFIED:20250911T103740Z
UID:3247-1765101600-1765108800@verdandieskilstuna.se
SUMMARY:Dansgympa
DESCRIPTION:Vi rör oss rytmiskt efter musik– rörelse ger glädje.Kostnadsfritt för medlemmar \n\n\n\nÖvriga 30:-/ tillfälle \n\n\n\nIngen anmälan krävs
URL:https://verdandieskilstuna.se/aktivitetskalender/dansgympa-17/
LOCATION:Hallströmsgatan 1\, Hallströmsgatan 1\, Eskilstuna\, Södermanland\, 63349\, Sweden
CATEGORIES:Dansgympa
ATTACH;FMTTYPE=image/png:https://media.verdandieskilstuna.se/2024/10/dansgympa.png
END:VEVENT
BEGIN:VEVENT
DTSTART;TZID=Europe/Stockholm:20251207T160000
DTEND;TZID=Europe/Stockholm:20251207T193000
DTSTAMP:20260426T055407
CREATED:20251015T183701Z
LAST-MODIFIED:20251015T183703Z
UID:3265-1765123200-1765135800@verdandieskilstuna.se
SUMMARY:Mogendans till Micke Ahlgren´s
DESCRIPTION:Vingåkers Folkets ParkFikaservering finns
URL:https://verdandieskilstuna.se/aktivitetskalender/mogendans-till-micke-ahlgrens/
LOCATION:Vingåker Folket Park\, Vikingavägen 38\, Vingåker\, 64333\, Sweden
CATEGORIES:Mogendans
ATTACH;FMTTYPE=image/jpeg:https://media.verdandieskilstuna.se/2025/03/mickeahlgrens.jpg
END:VEVENT
BEGIN:VEVENT
DTSTART;TZID=Europe/Stockholm:20251209T140000
DTEND;TZID=Europe/Stockholm:20251209T160000
DTSTAMP:20260426T055407
CREATED:20251029T103630Z
LAST-MODIFIED:20251029T103631Z
UID:3295-1765288800-1765296000@verdandieskilstuna.se
SUMMARY:Canasta
DESCRIPTION:Tisdagar jämna veckor Vi träffas och lär oss spela kortspelet Canasta.Kostnadsfritt för medlemmarÖvriga 30:-/tillfälle
URL:https://verdandieskilstuna.se/aktivitetskalender/canasta-3/
CATEGORIES:Canasta
ATTACH;FMTTYPE=image/jpeg:https://media.verdandieskilstuna.se/2025/01/f344ce85-6ecb-459e-b35e-a3fb548ca140.jpg
END:VEVENT
BEGIN:VEVENT
DTSTART;TZID=Europe/Stockholm:20251212T100000
DTEND;TZID=Europe/Stockholm:20251212T120000
DTSTAMP:20260426T055407
CREATED:20250911T102151Z
LAST-MODIFIED:20250911T102152Z
UID:3221-1765533600-1765540800@verdandieskilstuna.se
SUMMARY:Gubbfika
DESCRIPTION:Vi träffas\, fikar och pratar.
URL:https://verdandieskilstuna.se/aktivitetskalender/gubbfika-12/
LOCATION:Hallströmsgatan 1\, Hallströmsgatan 1\, Eskilstuna\, Södermanland\, 63349\, Sweden
CATEGORIES:Fika i lokalen
ATTACH;FMTTYPE=image/jpeg:https://media.verdandieskilstuna.se/2025/01/09d22569-891e-4cc5-8fa9-e7f4d4a05559.jpg
END:VEVENT
BEGIN:VEVENT
DTSTART;TZID=Europe/Stockholm:20251214T100000
DTEND;TZID=Europe/Stockholm:20251214T120000
DTSTAMP:20260426T055407
CREATED:20250911T103837Z
LAST-MODIFIED:20250911T103839Z
UID:3249-1765706400-1765713600@verdandieskilstuna.se
SUMMARY:Dansgympa
DESCRIPTION:Vi rör oss rytmiskt efter musik– rörelse ger glädje.Kostnadsfritt för medlemmar \n\n\n\nÖvriga 30:-/ tillfälle \n\n\n\nIngen anmälan krävs
URL:https://verdandieskilstuna.se/aktivitetskalender/dansgympa-18/
LOCATION:Hallströmsgatan 1\, Hallströmsgatan 1\, Eskilstuna\, Södermanland\, 63349\, Sweden
CATEGORIES:Dansgympa
ATTACH;FMTTYPE=image/png:https://media.verdandieskilstuna.se/2024/10/dansgympa.png
END:VEVENT
BEGIN:VEVENT
DTSTART;TZID=Europe/Stockholm:20251221T130000
DTEND;TZID=Europe/Stockholm:20251221T193000
DTSTAMP:20260426T055407
CREATED:20251015T183919Z
LAST-MODIFIED:20251015T183920Z
UID:3267-1766322000-1766345400@verdandieskilstuna.se
SUMMARY:Verdandis julfest 2025
DESCRIPTION:Söndag 21 december Lagerkvistgatan 2\, EskilstunaVerdandis traditionella julfest med julbord\, mingel och dans. \n\n\n\n13:00 JulbordKostnad Medlem: 50:-\, Icke-medlem 100:- \n\n\n\nAnmäl dig senast 14/12 om du vill äta \n\n\n\n16:00 – 19:30 Mogendans till Gideons OrkesterKostnad: 150:-/person \n\n\n\nUnder eftermiddagen blir det fika med jultårta\, julspel och lotterier.
URL:https://verdandieskilstuna.se/aktivitetskalender/verdandis-julfest-2025/
LOCATION:Lagerkvistgatan\, Lagerkvistgatan 2\, Eskilstuna\, Södermanland\, 63346\, Sweden
CATEGORIES:Alternativa firanden
ATTACH;FMTTYPE=image/jpeg:https://media.verdandieskilstuna.se/2025/10/10ca78f1-bbb0-4356-8369-4a93ee5d46cf.jpg
END:VEVENT
BEGIN:VEVENT
DTSTART;TZID=Europe/Stockholm:20251224T100000
DTEND;TZID=Europe/Stockholm:20251224T120000
DTSTAMP:20260426T055407
CREATED:20251015T184115Z
LAST-MODIFIED:20251015T184116Z
UID:3270-1766570400-1766577600@verdandieskilstuna.se
SUMMARY:Julbrunch
DESCRIPTION:Kostnad: 20:-/medlemHör gärna av dig om du kommer.
URL:https://verdandieskilstuna.se/aktivitetskalender/julbrunch/
LOCATION:Hallströmsgatan 1\, Hallströmsgatan 1\, Eskilstuna\, Södermanland\, 63349\, Sweden
CATEGORIES:Alternativa firanden
ATTACH;FMTTYPE=image/png:https://media.verdandieskilstuna.se/2025/10/d2b2e3b7-b17e-4801-8c06-4782bfae9e68.png
END:VEVENT
END:VCALENDAR