BEGIN:VCALENDAR
VERSION:2.0
PRODID:-//Verdandi Eskilstuna - ECPv6.15.20//NONSGML v1.0//EN
CALSCALE:GREGORIAN
METHOD:PUBLISH
X-WR-CALNAME:Verdandi Eskilstuna
X-ORIGINAL-URL:https://verdandieskilstuna.se
X-WR-CALDESC:Händelser för Verdandi Eskilstuna
REFRESH-INTERVAL;VALUE=DURATION:PT1H
X-Robots-Tag:noindex
X-PUBLISHED-TTL:PT1H
BEGIN:VTIMEZONE
TZID:Europe/Stockholm
BEGIN:DAYLIGHT
TZOFFSETFROM:+0100
TZOFFSETTO:+0200
TZNAME:CEST
DTSTART:20250330T010000
END:DAYLIGHT
BEGIN:STANDARD
TZOFFSETFROM:+0200
TZOFFSETTO:+0100
TZNAME:CET
DTSTART:20251026T010000
END:STANDARD
BEGIN:DAYLIGHT
TZOFFSETFROM:+0100
TZOFFSETTO:+0200
TZNAME:CEST
DTSTART:20260329T010000
END:DAYLIGHT
BEGIN:STANDARD
TZOFFSETFROM:+0200
TZOFFSETTO:+0100
TZNAME:CET
DTSTART:20261025T010000
END:STANDARD
BEGIN:DAYLIGHT
TZOFFSETFROM:+0100
TZOFFSETTO:+0200
TZNAME:CEST
DTSTART:20270328T010000
END:DAYLIGHT
BEGIN:STANDARD
TZOFFSETFROM:+0200
TZOFFSETTO:+0100
TZNAME:CET
DTSTART:20271031T010000
END:STANDARD
END:VTIMEZONE
BEGIN:VEVENT
DTSTART;TZID=Europe/Stockholm:20260317T140000
DTEND;TZID=Europe/Stockholm:20260317T160000
DTSTAMP:20260425T181148
CREATED:20260313T094239Z
LAST-MODIFIED:20260313T094241Z
UID:3530-1773756000-1773763200@verdandieskilstuna.se
SUMMARY:Canasta
DESCRIPTION:Tisdagar jämna veckorVi träffas och lär oss spela kortspelet Canasta.Kostnadsfritt för medlemmarÖvriga 30:-/tillfälle
URL:https://verdandieskilstuna.se/aktivitetskalender/canasta-5/
LOCATION:Hallströmsgatan 1\, Hallströmsgatan 1\, Eskilstuna\, Södermanland\, 63349\, Sweden
CATEGORIES:Canasta
ATTACH;FMTTYPE=image/jpeg:https://media.verdandieskilstuna.se/2025/01/f344ce85-6ecb-459e-b35e-a3fb548ca140.jpg
END:VEVENT
BEGIN:VEVENT
DTSTART;TZID=Europe/Stockholm:20260320T100000
DTEND;TZID=Europe/Stockholm:20260320T120000
DTSTAMP:20260425T181148
CREATED:20260106T112657Z
LAST-MODIFIED:20260106T112658Z
UID:3347-1774000800-1774008000@verdandieskilstuna.se
SUMMARY:Gubbfika
DESCRIPTION:Vi träffas\, fikar och pratar.
URL:https://verdandieskilstuna.se/aktivitetskalender/gubbfika-23/
LOCATION:Hallströmsgatan 1\, Hallströmsgatan 1\, Eskilstuna\, Södermanland\, 63349\, Sweden
CATEGORIES:Fika i lokalen
END:VEVENT
BEGIN:VEVENT
DTSTART;TZID=Europe/Stockholm:20260322T100000
DTEND;TZID=Europe/Stockholm:20260322T120000
DTSTAMP:20260425T181148
CREATED:20260106T124351Z
LAST-MODIFIED:20260106T124355Z
UID:3399-1774173600-1774180800@verdandieskilstuna.se
SUMMARY:Dansgympa
DESCRIPTION:Söndagar: 10:00 – 12:00Vi rör oss rytmiskt efter musik– rörelse ger glädje.Kostnadsfritt för medlemmar
URL:https://verdandieskilstuna.se/aktivitetskalender/dansgympa-24/
LOCATION:Hallströmsgatan 1\, Hallströmsgatan 1\, Eskilstuna\, Södermanland\, 63349\, Sweden
CATEGORIES:Dansgympa
ATTACH;FMTTYPE=image/jpeg:https://media.verdandieskilstuna.se/2024/08/Firefly-Aldre-grupp-personer-som-dansar-zumba-med-ryggen-mot-kameran-tecknade-83378.jpg
END:VEVENT
BEGIN:VEVENT
DTSTART;TZID=Europe/Stockholm:20260327T100000
DTEND;TZID=Europe/Stockholm:20260327T120000
DTSTAMP:20260425T181148
CREATED:20260106T112739Z
LAST-MODIFIED:20260106T112740Z
UID:3349-1774605600-1774612800@verdandieskilstuna.se
SUMMARY:Gubbfika
DESCRIPTION:Vi träffas\, fikar och pratar.
URL:https://verdandieskilstuna.se/aktivitetskalender/gubbfika-24/
LOCATION:Hallströmsgatan 1\, Hallströmsgatan 1\, Eskilstuna\, Södermanland\, 63349\, Sweden
CATEGORIES:Fika i lokalen
ATTACH;FMTTYPE=image/jpeg:https://media.verdandieskilstuna.se/2025/01/09d22569-891e-4cc5-8fa9-e7f4d4a05559.jpg
END:VEVENT
BEGIN:VEVENT
DTSTART;TZID=Europe/Stockholm:20260329T100000
DTEND;TZID=Europe/Stockholm:20260329T120000
DTSTAMP:20260425T181148
CREATED:20260106T124231Z
LAST-MODIFIED:20260106T124232Z
UID:3397-1774778400-1774785600@verdandieskilstuna.se
SUMMARY:Dansgympa
DESCRIPTION:Söndagar: 10:00 – 12:00Vi rör oss rytmiskt efter musik– rörelse ger glädje.Kostnadsfritt för medlemmar
URL:https://verdandieskilstuna.se/aktivitetskalender/dansgympa-23/
LOCATION:Hallströmsgatan 1\, Hallströmsgatan 1\, Eskilstuna\, Södermanland\, 63349\, Sweden
CATEGORIES:Dansgympa
ATTACH;FMTTYPE=image/jpeg:https://media.verdandieskilstuna.se/2024/08/Firefly-Aldre-grupp-personer-som-dansar-zumba-med-ryggen-mot-kameran-tecknade-83378.jpg
END:VEVENT
BEGIN:VEVENT
DTSTART;TZID=Europe/Stockholm:20260331T140000
DTEND;TZID=Europe/Stockholm:20260331T160000
DTSTAMP:20260425T181148
CREATED:20260313T094342Z
LAST-MODIFIED:20260313T094343Z
UID:3532-1774965600-1774972800@verdandieskilstuna.se
SUMMARY:Canasta
DESCRIPTION:Tisdagar jämna veckorVi träffas och lär oss spela kortspelet Canasta.Kostnadsfritt för medlemmarÖvriga 30:-/tillfälle
URL:https://verdandieskilstuna.se/aktivitetskalender/canasta-6/
LOCATION:Hallströmsgatan 1\, Hallströmsgatan 1\, Eskilstuna\, Södermanland\, 63349\, Sweden
CATEGORIES:Canasta
ATTACH;FMTTYPE=image/jpeg:https://media.verdandieskilstuna.se/2025/01/f344ce85-6ecb-459e-b35e-a3fb548ca140.jpg
END:VEVENT
BEGIN:VEVENT
DTSTART;TZID=Europe/Stockholm:20260403T100000
DTEND;TZID=Europe/Stockholm:20260403T120000
DTSTAMP:20260425T181148
CREATED:20260106T112815Z
LAST-MODIFIED:20260106T112816Z
UID:3351-1775210400-1775217600@verdandieskilstuna.se
SUMMARY:Gubbfika
DESCRIPTION:Vi träffas\, fikar och pratar.
URL:https://verdandieskilstuna.se/aktivitetskalender/gubbfika-25/
LOCATION:Hallströmsgatan 1\, Hallströmsgatan 1\, Eskilstuna\, Södermanland\, 63349\, Sweden
CATEGORIES:Fika i lokalen
ATTACH;FMTTYPE=image/jpeg:https://media.verdandieskilstuna.se/2025/01/09d22569-891e-4cc5-8fa9-e7f4d4a05559.jpg
END:VEVENT
BEGIN:VEVENT
DTSTART;TZID=Europe/Stockholm:20260403T140000
DTEND;TZID=Europe/Stockholm:20260403T160000
DTSTAMP:20260425T181148
CREATED:20260106T121734Z
LAST-MODIFIED:20260319T091339Z
UID:3368-1775224800-1775232000@verdandieskilstuna.se
SUMMARY:Sillunch
DESCRIPTION:Långfredagen 3 april 12:00 – 14:00Föreningslokalen \n\n\n\nKostnad: 40:-/person \n\n\n\nAnmäl dig senast 29 mars
URL:https://verdandieskilstuna.se/aktivitetskalender/sillfest/
LOCATION:Hallströmsgatan 1\, Hallströmsgatan 1\, Eskilstuna\, Södermanland\, 63349\, Sweden
CATEGORIES:Förening
ATTACH;FMTTYPE=image/jpeg:https://media.verdandieskilstuna.se/2026/01/d8765e16-d3e0-479a-8dfd-ee73fef23617.jpg
END:VEVENT
BEGIN:VEVENT
DTSTART;TZID=Europe/Stockholm:20260405T100000
DTEND;TZID=Europe/Stockholm:20260405T120000
DTSTAMP:20260425T181148
CREATED:20260106T124839Z
LAST-MODIFIED:20260106T124840Z
UID:3405-1775383200-1775390400@verdandieskilstuna.se
SUMMARY:Dansgympa
DESCRIPTION:Söndagar: 10:00 – 12:00Vi rör oss rytmiskt efter musik– rörelse ger glädje.Kostnadsfritt för medlemmar
URL:https://verdandieskilstuna.se/aktivitetskalender/dansgympa-25/
LOCATION:Hallströmsgatan 1\, Hallströmsgatan 1\, Eskilstuna\, Södermanland\, 63349\, Sweden
CATEGORIES:Dansgympa
ATTACH;FMTTYPE=image/jpeg:https://media.verdandieskilstuna.se/2024/08/Firefly-Aldre-grupp-personer-som-dansar-zumba-med-ryggen-mot-kameran-tecknade-83378.jpg
END:VEVENT
BEGIN:VEVENT
DTSTART;TZID=Europe/Stockholm:20260405T140000
DTEND;TZID=Europe/Stockholm:20260405T160000
DTSTAMP:20260425T181148
CREATED:20260106T121910Z
LAST-MODIFIED:20260319T091716Z
UID:3371-1775397600-1775404800@verdandieskilstuna.se
SUMMARY:Påskbuffé
DESCRIPTION:Kostnad: 60:-/PersonAnmäl dig senast 30 mars
URL:https://verdandieskilstuna.se/aktivitetskalender/paskbuffe/
LOCATION:Lagerkvistgatan\, Lagerkvistgatan 2\, Eskilstuna\, Södermanland\, 63346\, Sverige
CATEGORIES:Alternativa firanden
ATTACH;FMTTYPE=image/jpeg:https://media.verdandieskilstuna.se/2024/01/easter.jpeg
END:VEVENT
BEGIN:VEVENT
DTSTART;TZID=Europe/Stockholm:20260405T160000
DTEND;TZID=Europe/Stockholm:20260405T193000
DTSTAMP:20260425T181148
CREATED:20260106T122027Z
LAST-MODIFIED:20260106T122028Z
UID:3373-1775404800-1775417400@verdandieskilstuna.se
SUMMARY:Påskdans
DESCRIPTION:Mogendans till Kent & HenkeEntré: 160:-Fikaservering finns
URL:https://verdandieskilstuna.se/aktivitetskalender/paskdans/
LOCATION:Lagerkvistgatan\, Lagerkvistgatan 2\, Eskilstuna\, Södermanland\, 63346\, Sverige
CATEGORIES:Dansafton
ATTACH;FMTTYPE=image/jpeg:https://media.verdandieskilstuna.se/2024/07/448347530_10219300842910423_1856412899940176396_n.jpg
END:VEVENT
BEGIN:VEVENT
DTSTART;TZID=Europe/Stockholm:20260410T100000
DTEND;TZID=Europe/Stockholm:20260410T120000
DTSTAMP:20260425T181148
CREATED:20260106T112856Z
LAST-MODIFIED:20260106T112857Z
UID:3353-1775815200-1775822400@verdandieskilstuna.se
SUMMARY:Gubbfika
DESCRIPTION:Vi träffas\, fikar och pratar.
URL:https://verdandieskilstuna.se/aktivitetskalender/gubbfika-26/
LOCATION:Hallströmsgatan 1\, Hallströmsgatan 1\, Eskilstuna\, Södermanland\, 63349\, Sweden
ATTACH;FMTTYPE=image/jpeg:https://media.verdandieskilstuna.se/2025/01/09d22569-891e-4cc5-8fa9-e7f4d4a05559.jpg
END:VEVENT
BEGIN:VEVENT
DTSTART;TZID=Europe/Stockholm:20260412T100000
DTEND;TZID=Europe/Stockholm:20260412T120000
DTSTAMP:20260425T181148
CREATED:20260106T125100Z
LAST-MODIFIED:20260106T125102Z
UID:3407-1775988000-1775995200@verdandieskilstuna.se
SUMMARY:Dansgympa
DESCRIPTION:Söndagar: 10:00 – 12:00Vi rör oss rytmiskt efter musik– rörelse ger glädje.Kostnadsfritt för medlemmar
URL:https://verdandieskilstuna.se/aktivitetskalender/dansgympa-26/
LOCATION:Hallströmsgatan 1\, Hallströmsgatan 1\, Eskilstuna\, Södermanland\, 63349\, Sweden
CATEGORIES:Dansgympa
ATTACH;FMTTYPE=image/jpeg:https://media.verdandieskilstuna.se/2024/08/Firefly-Aldre-grupp-personer-som-dansar-zumba-med-ryggen-mot-kameran-tecknade-83378.jpg
END:VEVENT
BEGIN:VEVENT
DTSTART;TZID=Europe/Stockholm:20260414T140000
DTEND;TZID=Europe/Stockholm:20260414T160000
DTSTAMP:20260425T181148
CREATED:20260313T094450Z
LAST-MODIFIED:20260313T094451Z
UID:3534-1776175200-1776182400@verdandieskilstuna.se
SUMMARY:Canasta
DESCRIPTION:Tisdagar jämna veckorVi träffas och lär oss spela kortspelet Canasta.Kostnadsfritt för medlemmarÖvriga 30:-/tillfälle
URL:https://verdandieskilstuna.se/aktivitetskalender/canasta-7/
LOCATION:Hallströmsgatan 1\, Hallströmsgatan 1\, Eskilstuna\, Södermanland\, 63349\, Sweden
CATEGORIES:Canasta
ATTACH;FMTTYPE=image/jpeg:https://media.verdandieskilstuna.se/2025/01/f344ce85-6ecb-459e-b35e-a3fb548ca140.jpg
END:VEVENT
BEGIN:VEVENT
DTSTART;TZID=Europe/Stockholm:20260416T130000
DTEND;TZID=Europe/Stockholm:20260416T160000
DTSTAMP:20260425T181148
CREATED:20260319T100525Z
LAST-MODIFIED:20260319T100526Z
UID:3568-1776344400-1776355200@verdandieskilstuna.se
SUMMARY:PREMIÄR Hantverksgruppen
DESCRIPTION:Torsdag 16 april 13:00Föreningslokalen \n\n\n\nVi samlas och arbetar med våra projekt\, fikar och har det trevligt. \n\n\n\nAnmäl ditt intresse senast 13 april. \n\n\n\nFortsatta tillfällen meddelas efter första träffen
URL:https://verdandieskilstuna.se/aktivitetskalender/premiar-hantverksgruppen/
LOCATION:Hallströmsgatan 1\, Hallströmsgatan 1\, Eskilstuna\, Södermanland\, 63349\, Sweden
ATTACH;FMTTYPE=image/png:https://media.verdandieskilstuna.se/2026/01/78bbad64-c632-45d9-b94b-6fe8385f5ac0.png
END:VEVENT
BEGIN:VEVENT
DTSTART;TZID=Europe/Stockholm:20260417T100000
DTEND;TZID=Europe/Stockholm:20260417T120000
DTSTAMP:20260425T181148
CREATED:20260106T124549Z
LAST-MODIFIED:20260106T124552Z
UID:3401-1776420000-1776427200@verdandieskilstuna.se
SUMMARY:Gubbfika
DESCRIPTION:Vi träffas\, fikar och pratar.
URL:https://verdandieskilstuna.se/aktivitetskalender/gubbfika-27/
LOCATION:Hallströmsgatan 1\, Hallströmsgatan 1\, Eskilstuna\, Södermanland\, 63349\, Sweden
CATEGORIES:Fika i lokalen
ATTACH;FMTTYPE=image/jpeg:https://media.verdandieskilstuna.se/2025/01/09d22569-891e-4cc5-8fa9-e7f4d4a05559.jpg
END:VEVENT
BEGIN:VEVENT
DTSTART;TZID=Europe/Stockholm:20260419T100000
DTEND;TZID=Europe/Stockholm:20260419T120000
DTSTAMP:20260425T181148
CREATED:20260106T125712Z
LAST-MODIFIED:20260106T125714Z
UID:3409-1776592800-1776600000@verdandieskilstuna.se
SUMMARY:Dansgympa
DESCRIPTION:Söndagar: 10:00 – 12:00Vi rör oss rytmiskt efter musik– rörelse ger glädje.Kostnadsfritt för medlemmar
URL:https://verdandieskilstuna.se/aktivitetskalender/dansgympa-27/
LOCATION:Hallströmsgatan 1\, Hallströmsgatan 1\, Eskilstuna\, Södermanland\, 63349\, Sweden
CATEGORIES:Dansgympa
ATTACH;FMTTYPE=image/jpeg:https://media.verdandieskilstuna.se/2024/08/Firefly-Aldre-grupp-personer-som-dansar-zumba-med-ryggen-mot-kameran-tecknade-83378.jpg
END:VEVENT
BEGIN:VEVENT
DTSTART;TZID=Europe/Stockholm:20260424T100000
DTEND;TZID=Europe/Stockholm:20260424T120000
DTSTAMP:20260425T181148
CREATED:20260106T124648Z
LAST-MODIFIED:20260106T124649Z
UID:3403-1777024800-1777032000@verdandieskilstuna.se
SUMMARY:Gubbfika
DESCRIPTION:Vi träffas\, fikar och pratar.
URL:https://verdandieskilstuna.se/aktivitetskalender/gubbfika-28/
LOCATION:Hallströmsgatan 1\, Hallströmsgatan 1\, Eskilstuna\, Södermanland\, 63349\, Sweden
CATEGORIES:Fika i lokalen
ATTACH;FMTTYPE=image/jpeg:https://media.verdandieskilstuna.se/2025/01/09d22569-891e-4cc5-8fa9-e7f4d4a05559.jpg
END:VEVENT
BEGIN:VEVENT
DTSTART;TZID=Europe/Stockholm:20260426T100000
DTEND;TZID=Europe/Stockholm:20260426T120000
DTSTAMP:20260425T181148
CREATED:20260106T125813Z
LAST-MODIFIED:20260106T125815Z
UID:3411-1777197600-1777204800@verdandieskilstuna.se
SUMMARY:Dansgympa
DESCRIPTION:Söndagar: 10:00 – 12:00Vi rör oss rytmiskt efter musik– rörelse ger glädje.Kostnadsfritt för medlemmar
URL:https://verdandieskilstuna.se/aktivitetskalender/dansgympa-28/
LOCATION:Hallströmsgatan 1\, Hallströmsgatan 1\, Eskilstuna\, Södermanland\, 63349\, Sweden
CATEGORIES:Dansgympa
ATTACH;FMTTYPE=image/jpeg:https://media.verdandieskilstuna.se/2024/08/Firefly-Aldre-grupp-personer-som-dansar-zumba-med-ryggen-mot-kameran-tecknade-83378.jpg
END:VEVENT
BEGIN:VEVENT
DTSTART;TZID=Europe/Stockholm:20260428T140000
DTEND;TZID=Europe/Stockholm:20260428T160000
DTSTAMP:20260425T181148
CREATED:20260313T094557Z
LAST-MODIFIED:20260313T094558Z
UID:3536-1777384800-1777392000@verdandieskilstuna.se
SUMMARY:Canasta
DESCRIPTION:Tisdagar jämna veckorVi träffas och lär oss spela kortspelet Canasta.Kostnadsfritt för medlemmarÖvriga 30:-/tillfälle
URL:https://verdandieskilstuna.se/aktivitetskalender/canasta-8/
LOCATION:Hallströmsgatan 1\, Hallströmsgatan 1\, Eskilstuna\, Södermanland\, 63349\, Sweden
CATEGORIES:Canasta
ATTACH;FMTTYPE=image/jpeg:https://media.verdandieskilstuna.se/2025/01/f344ce85-6ecb-459e-b35e-a3fb548ca140.jpg
END:VEVENT
BEGIN:VEVENT
DTSTART;TZID=Europe/Stockholm:20260501T100000
DTEND;TZID=Europe/Stockholm:20260501T120000
DTSTAMP:20260425T181148
CREATED:20260319T093456Z
LAST-MODIFIED:20260319T093507Z
UID:3548-1777629600-1777636800@verdandieskilstuna.se
SUMMARY:Gubbfika
DESCRIPTION:Vi träffas\, fikar och pratar.
URL:https://verdandieskilstuna.se/aktivitetskalender/gubbfika/
LOCATION:Hallströmsgatan 1\, Hallströmsgatan 1\, Eskilstuna\, Södermanland\, 63349\, Sweden
CATEGORIES:Fika i lokalen
ATTACH;FMTTYPE=image/jpeg:https://media.verdandieskilstuna.se/2025/01/09d22569-891e-4cc5-8fa9-e7f4d4a05559.jpg
END:VEVENT
BEGIN:VEVENT
DTSTART;TZID=Europe/Stockholm:20260508T100000
DTEND;TZID=Europe/Stockholm:20260508T120000
DTSTAMP:20260425T181148
CREATED:20260319T093625Z
LAST-MODIFIED:20260319T093629Z
UID:3550-1778234400-1778241600@verdandieskilstuna.se
SUMMARY:Gubbfika
DESCRIPTION:Vi träffas\, fikar och pratar.
URL:https://verdandieskilstuna.se/aktivitetskalender/gubbfika-29/
LOCATION:Hallströmsgatan 1\, Hallströmsgatan 1\, Eskilstuna\, Södermanland\, 63349\, Sweden
CATEGORIES:Fika i lokalen
ATTACH;FMTTYPE=image/jpeg:https://media.verdandieskilstuna.se/2025/01/09d22569-891e-4cc5-8fa9-e7f4d4a05559.jpg
END:VEVENT
BEGIN:VEVENT
DTSTART;TZID=Europe/Stockholm:20260510T120000
DTEND;TZID=Europe/Stockholm:20260510T193000
DTSTAMP:20260425T181148
CREATED:20260313T080424Z
LAST-MODIFIED:20260406T164311Z
UID:3512-1778414400-1778441400@verdandieskilstuna.se
SUMMARY:Vårfest i Vingåker Folkets Park
DESCRIPTION:Marknad\, lotterier Finns att köpa:Grillade hamburgare\, korv med bröd och fikaUnderhållningAnna Jetz Trio underhåller med musikalisk frågesport och Allsång som förenar \n\n\n\nMogendans till Engdahls från kl 16:00 (entré 160:-)
URL:https://verdandieskilstuna.se/aktivitetskalender/varfest-i-vingaker-folkets-park/
LOCATION:Vingåker Folket Park\, Vikingavägen 38\, Vingåker\, 64333\, Sweden
CATEGORIES:Utflykter
ATTACH;FMTTYPE=image/jpeg:https://media.verdandieskilstuna.se/2025/03/02f2fbfa-1bcd-42c8-aa41-b1badcb17308.jpg
END:VEVENT
BEGIN:VEVENT
DTSTART;TZID=Europe/Stockholm:20260512T140000
DTEND;TZID=Europe/Stockholm:20260512T160000
DTSTAMP:20260425T181148
CREATED:20260313T094654Z
LAST-MODIFIED:20260313T094656Z
UID:3538-1778594400-1778601600@verdandieskilstuna.se
SUMMARY:Canasta
DESCRIPTION:Tisdagar jämna veckorVi träffas och lär oss spela kortspelet Canasta.Kostnadsfritt för medlemmarÖvriga 30:-/tillfälle
URL:https://verdandieskilstuna.se/aktivitetskalender/canasta-9/
LOCATION:Hallströmsgatan 1\, Hallströmsgatan 1\, Eskilstuna\, Södermanland\, 63349\, Sweden
CATEGORIES:Canasta
ATTACH;FMTTYPE=image/jpeg:https://media.verdandieskilstuna.se/2025/01/f344ce85-6ecb-459e-b35e-a3fb548ca140.jpg
END:VEVENT
BEGIN:VEVENT
DTSTART;TZID=Europe/Stockholm:20260512T180000
DTEND;TZID=Europe/Stockholm:20260512T203000
DTSTAMP:20260425T181148
CREATED:20260421T111720Z
LAST-MODIFIED:20260421T111722Z
UID:3574-1778608800-1778617800@verdandieskilstuna.se
SUMMARY:Utflykt med Historiska Klubben
DESCRIPTION:Samling vid Eskilstuna Golfklubb \n\n\n\nDenna kväll blir det en favorit i repris när tar vi en resa i östlig riktning och följer i spåren av Ingvar den vittfarne. Vi börjar med att besöka Ingvarsstenen mitt emot Balsta och fortsätter sedan till Jäder kyrka med avslut i Kjula.  \n\n\n\nUnder resan tar vi en fika så medtag egen fikakorg. 
URL:https://verdandieskilstuna.se/aktivitetskalender/utflykt-med-historiska-klubben/
CATEGORIES:Utflykter
ATTACH;FMTTYPE=image/jpeg:https://media.verdandieskilstuna.se/2026/04/so107gredby.jpg
END:VEVENT
BEGIN:VEVENT
DTSTART;TZID=Europe/Stockholm:20260515T100000
DTEND;TZID=Europe/Stockholm:20260515T120000
DTSTAMP:20260425T181148
CREATED:20260319T093743Z
LAST-MODIFIED:20260319T093745Z
UID:3552-1778839200-1778846400@verdandieskilstuna.se
SUMMARY:Gubbfika
DESCRIPTION:Vi träffas\, fikar och pratar.
URL:https://verdandieskilstuna.se/aktivitetskalender/gubbfika-30/
LOCATION:Hallströmsgatan 1\, Hallströmsgatan 1\, Eskilstuna\, Södermanland\, 63349\, Sweden
ATTACH;FMTTYPE=image/jpeg:https://media.verdandieskilstuna.se/2025/01/09d22569-891e-4cc5-8fa9-e7f4d4a05559.jpg
END:VEVENT
BEGIN:VEVENT
DTSTART;TZID=Europe/Stockholm:20260519T180000
DTEND;TZID=Europe/Stockholm:20260519T203000
DTSTAMP:20260425T181148
CREATED:20260421T112421Z
LAST-MODIFIED:20260421T113241Z
UID:3577-1779213600-1779222600@verdandieskilstuna.se
SUMMARY:Historiska Klubben: Rundvandring Snopptorp
DESCRIPTION:Samling vid Coop Triangeln \n\n\n\nDenna kväll tar vi en rundvandring genom Snopptorp. Vi börjar med att bestiga berget där det gamla vattentornet låg för att fortsätta till platsen för den gamla hälsobrunnen. Även platsen för det gamla häktet kommer besökas. Under rundturen tar vi en fika (troligen utmed ån) så medtag egen fikakorg.
URL:https://verdandieskilstuna.se/aktivitetskalender/rundvandring-snopptorp/
CATEGORIES:Utflykter
ATTACH;FMTTYPE=image/jpeg:https://media.verdandieskilstuna.se/2026/04/snopptorp.jpg
END:VEVENT
BEGIN:VEVENT
DTSTART;TZID=Europe/Stockholm:20260522T100000
DTEND;TZID=Europe/Stockholm:20260522T120000
DTSTAMP:20260425T181148
CREATED:20260319T093843Z
LAST-MODIFIED:20260319T093845Z
UID:3554-1779444000-1779451200@verdandieskilstuna.se
SUMMARY:Gubbfika
DESCRIPTION:Vi träffas\, fikar och pratar.
URL:https://verdandieskilstuna.se/aktivitetskalender/gubbfika-31/
LOCATION:Hallströmsgatan 1\, Hallströmsgatan 1\, Eskilstuna\, Södermanland\, 63349\, Sweden
CATEGORIES:Fika i lokalen
ATTACH;FMTTYPE=image/jpeg:https://media.verdandieskilstuna.se/2025/01/09d22569-891e-4cc5-8fa9-e7f4d4a05559.jpg
END:VEVENT
BEGIN:VEVENT
DTSTART;TZID=Europe/Stockholm:20260524T150000
DTEND;TZID=Europe/Stockholm:20260524T183000
DTSTAMP:20260425T181148
CREATED:20260226T142919Z
LAST-MODIFIED:20260226T143845Z
UID:3430-1779634800-1779647400@verdandieskilstuna.se
SUMMARY:Logdans till Junix
DESCRIPTION:« Alla Evenemang\n \n	 \n\n	Kategorier:\n		Logdans	 \n\n	Dahls Loge\n\nDahls Gård\n		\n		Katrineholm\,\n	Södermanland\n	64196\n	Sweden\n\n\n	+ Google Map \n\n					\n						\n	 \n\n\n\n\n	\n	Lägg till i kalender	\n		\n	\n \n\n\n	Google Kalender\n\n\n	iCalendar\n\n\n	Outlook 365\n\n\n	Outlook Live\n\n\n\n\n\n\n				Dansgympa	\n\n\n	\n		Kjellez
URL:https://verdandieskilstuna.se/aktivitetskalender/junix/
LOCATION:Dahls Loge\, Dahls Gård\, Katrineholm\, Södermanland\, 64196\, Sweden
CATEGORIES:Logdans
ATTACH;FMTTYPE=image/jpeg:https://media.verdandieskilstuna.se/2024/09/Junix.jpg
END:VEVENT
BEGIN:VEVENT
DTSTART;TZID=Europe/Stockholm:20260526T140000
DTEND;TZID=Europe/Stockholm:20260526T160000
DTSTAMP:20260425T181148
CREATED:20260313T095314Z
LAST-MODIFIED:20260313T095317Z
UID:3540-1779804000-1779811200@verdandieskilstuna.se
SUMMARY:Canasta
DESCRIPTION:Tisdagar jämna veckorVi träffas och lär oss spela kortspelet Canasta.Kostnadsfritt för medlemmarÖvriga 30:-/tillfälle
URL:https://verdandieskilstuna.se/aktivitetskalender/canasta-10/
LOCATION:Hallströmsgatan 1\, Hallströmsgatan 1\, Eskilstuna\, Södermanland\, 63349\, Sweden
CATEGORIES:Canasta
ATTACH;FMTTYPE=image/jpeg:https://media.verdandieskilstuna.se/2025/01/f344ce85-6ecb-459e-b35e-a3fb548ca140.jpg
END:VEVENT
END:VCALENDAR