BEGIN:VCALENDAR
VERSION:2.0
PRODID:-//Verdandi Eskilstuna - ECPv6.15.20//NONSGML v1.0//EN
CALSCALE:GREGORIAN
METHOD:PUBLISH
X-ORIGINAL-URL:https://verdandieskilstuna.se
X-WR-CALDESC:Händelser för Verdandi Eskilstuna
REFRESH-INTERVAL;VALUE=DURATION:PT1H
X-Robots-Tag:noindex
X-PUBLISHED-TTL:PT1H
BEGIN:VTIMEZONE
TZID:Europe/Stockholm
BEGIN:DAYLIGHT
TZOFFSETFROM:+0100
TZOFFSETTO:+0200
TZNAME:CEST
DTSTART:20250330T010000
END:DAYLIGHT
BEGIN:STANDARD
TZOFFSETFROM:+0200
TZOFFSETTO:+0100
TZNAME:CET
DTSTART:20251026T010000
END:STANDARD
BEGIN:DAYLIGHT
TZOFFSETFROM:+0100
TZOFFSETTO:+0200
TZNAME:CEST
DTSTART:20260329T010000
END:DAYLIGHT
BEGIN:STANDARD
TZOFFSETFROM:+0200
TZOFFSETTO:+0100
TZNAME:CET
DTSTART:20261025T010000
END:STANDARD
BEGIN:DAYLIGHT
TZOFFSETFROM:+0100
TZOFFSETTO:+0200
TZNAME:CEST
DTSTART:20270328T010000
END:DAYLIGHT
BEGIN:STANDARD
TZOFFSETFROM:+0200
TZOFFSETTO:+0100
TZNAME:CET
DTSTART:20271031T010000
END:STANDARD
END:VTIMEZONE
BEGIN:VEVENT
DTSTART;TZID=Europe/Stockholm:20260201T100000
DTEND;TZID=Europe/Stockholm:20260201T120000
DTSTAMP:20260425T165310
CREATED:20260106T122825Z
LAST-MODIFIED:20260106T122826Z
UID:3381-1769940000-1769947200@verdandieskilstuna.se
SUMMARY:Dansgympa
DESCRIPTION:Söndagar: 10:00 – 12:00Vi rör oss rytmiskt efter musik– rörelse ger glädje.Kostnadsfritt för medlemmar
URL:https://verdandieskilstuna.se/aktivitetskalender/dansgympa-5/
LOCATION:Hallströmsgatan 1\, Hallströmsgatan 1\, Eskilstuna\, Södermanland\, 63349\, Sweden
CATEGORIES:Dansgympa
ATTACH;FMTTYPE=image/jpeg:https://media.verdandieskilstuna.se/2024/08/Firefly-Aldre-grupp-personer-som-dansar-zumba-med-ryggen-mot-kameran-tecknade-83378.jpg
END:VEVENT
BEGIN:VEVENT
DTSTART;TZID=Europe/Stockholm:20260206T100000
DTEND;TZID=Europe/Stockholm:20260206T120000
DTSTAMP:20260425T165310
CREATED:20260106T112349Z
LAST-MODIFIED:20260106T112350Z
UID:3337-1770372000-1770379200@verdandieskilstuna.se
SUMMARY:Gubbfika
DESCRIPTION:Vi träffas\, fikar och pratar.
URL:https://verdandieskilstuna.se/aktivitetskalender/gubbfika-18/
LOCATION:Hallströmsgatan 1\, Hallströmsgatan 1\, Eskilstuna\, Södermanland\, 63349\, Sweden
CATEGORIES:Fika i lokalen
ATTACH;FMTTYPE=image/jpeg:https://media.verdandieskilstuna.se/2025/01/09d22569-891e-4cc5-8fa9-e7f4d4a05559.jpg
END:VEVENT
BEGIN:VEVENT
DTSTART;TZID=Europe/Stockholm:20260207T140000
DTEND;TZID=Europe/Stockholm:20260207T170000
DTSTAMP:20260425T165310
CREATED:20260106T121457Z
LAST-MODIFIED:20260106T121458Z
UID:3363-1770472800-1770483600@verdandieskilstuna.se
SUMMARY:Årsmöte
DESCRIPTION:Inbjudan kommer till medlemmarPå kvällen blir det dans till Stefan & Tony
URL:https://verdandieskilstuna.se/aktivitetskalender/arsmote/
LOCATION:Lagerkvistgatan\, Lagerkvistgatan 2\, Eskilstuna\, Södermanland\, 63346\, Sverige
CATEGORIES:Förening
ATTACH;FMTTYPE=image/jpeg:https://media.verdandieskilstuna.se/2024/02/Klubba.jpg
END:VEVENT
BEGIN:VEVENT
DTSTART;TZID=Europe/Stockholm:20260207T170000
DTEND;TZID=Europe/Stockholm:20260207T203000
DTSTAMP:20260425T165310
CREATED:20260106T121634Z
LAST-MODIFIED:20260106T121635Z
UID:3365-1770483600-1770496200@verdandieskilstuna.se
SUMMARY:Mogendans till Stefan & Tony
DESCRIPTION:Mogendans till Stefan & TonyEntré: 160:-Fikaservering finns
URL:https://verdandieskilstuna.se/aktivitetskalender/mogendans-till-stefan-tony/
LOCATION:Lagerkvistgatan\, Lagerkvistgatan 2\, Eskilstuna\, Södermanland\, 63346\, Sverige
CATEGORIES:Dansafton
ATTACH;FMTTYPE=image/jpeg:https://media.verdandieskilstuna.se/2026/01/40cb7168-a945-407b-b6c0-56c142966694.jpg
END:VEVENT
BEGIN:VEVENT
DTSTART;TZID=Europe/Stockholm:20260208T100000
DTEND;TZID=Europe/Stockholm:20260208T120000
DTSTAMP:20260425T165310
CREATED:20260106T122916Z
LAST-MODIFIED:20260106T122918Z
UID:3383-1770544800-1770552000@verdandieskilstuna.se
SUMMARY:Dansgympa
DESCRIPTION:Söndagar: 10:00 – 12:00Vi rör oss rytmiskt efter musik– rörelse ger glädje.Kostnadsfritt för medlemmar
URL:https://verdandieskilstuna.se/aktivitetskalender/dansgympa-6/
LOCATION:Hallströmsgatan 1\, Hallströmsgatan 1\, Eskilstuna\, Södermanland\, 63349\, Sweden
CATEGORIES:Dansgympa
ATTACH;FMTTYPE=image/jpeg:https://media.verdandieskilstuna.se/2024/08/Firefly-Aldre-grupp-personer-som-dansar-zumba-med-ryggen-mot-kameran-tecknade-83378.jpg
END:VEVENT
BEGIN:VEVENT
DTSTART;TZID=Europe/Stockholm:20260212T130000
DTEND;TZID=Europe/Stockholm:20260212T170000
DTSTAMP:20260425T165310
CREATED:20260106T121326Z
LAST-MODIFIED:20260126T122033Z
UID:3360-1770901200-1770915600@verdandieskilstuna.se
SUMMARY:Sy- och Pysseljunta
DESCRIPTION:Vi träffas för att sy och pyssla tillsammans. Symaskin kommer finnas att låna.Medtag eget material \n\n\n\nAnmäl ditt deltagande senast 9 februari
URL:https://verdandieskilstuna.se/aktivitetskalender/sy-och-pysseljunta/
LOCATION:Hallströmsgatan 1\, Hallströmsgatan 1\, Eskilstuna\, Södermanland\, 63349\, Sweden
CATEGORIES:Gruppaktivitet
ATTACH;FMTTYPE=image/png:https://media.verdandieskilstuna.se/2026/01/78bbad64-c632-45d9-b94b-6fe8385f5ac0.png
END:VEVENT
BEGIN:VEVENT
DTSTART;TZID=Europe/Stockholm:20260213T100000
DTEND;TZID=Europe/Stockholm:20260213T120000
DTSTAMP:20260425T165310
CREATED:20260106T112424Z
LAST-MODIFIED:20260106T112426Z
UID:3339-1770976800-1770984000@verdandieskilstuna.se
SUMMARY:Gubbfika
DESCRIPTION:Vi träffas\, fikar och pratar.
URL:https://verdandieskilstuna.se/aktivitetskalender/gubbfika-19/
LOCATION:Hallströmsgatan 1\, Hallströmsgatan 1\, Eskilstuna\, Södermanland\, 63349\, Sweden
CATEGORIES:Fika i lokalen
ATTACH;FMTTYPE=image/jpeg:https://media.verdandieskilstuna.se/2025/01/09d22569-891e-4cc5-8fa9-e7f4d4a05559.jpg
END:VEVENT
BEGIN:VEVENT
DTSTART;TZID=Europe/Stockholm:20260215T100000
DTEND;TZID=Europe/Stockholm:20260215T120000
DTSTAMP:20260425T165310
CREATED:20260106T123013Z
LAST-MODIFIED:20260106T123014Z
UID:3385-1771149600-1771156800@verdandieskilstuna.se
SUMMARY:Dansgympa
DESCRIPTION:Söndagar: 10:00 – 12:00Vi rör oss rytmiskt efter musik– rörelse ger glädje.Kostnadsfritt för medlemmar
URL:https://verdandieskilstuna.se/aktivitetskalender/dansgympa-7/
LOCATION:Hallströmsgatan 1\, Hallströmsgatan 1\, Eskilstuna\, Södermanland\, 63349\, Sweden
CATEGORIES:Dansgympa
ATTACH;FMTTYPE=image/jpeg:https://media.verdandieskilstuna.se/2024/08/Firefly-Aldre-grupp-personer-som-dansar-zumba-med-ryggen-mot-kameran-tecknade-83378.jpg
END:VEVENT
BEGIN:VEVENT
DTSTART;TZID=Europe/Stockholm:20260222T100000
DTEND;TZID=Europe/Stockholm:20260222T120000
DTSTAMP:20260425T165310
CREATED:20260106T123101Z
LAST-MODIFIED:20260106T123103Z
UID:3387-1771754400-1771761600@verdandieskilstuna.se
SUMMARY:Dansgympa
DESCRIPTION:Söndagar: 10:00 – 12:00Vi rör oss rytmiskt efter musik– rörelse ger glädje.Kostnadsfritt för medlemmar
URL:https://verdandieskilstuna.se/aktivitetskalender/dansgympa-8/
LOCATION:Hallströmsgatan 1\, Hallströmsgatan 1\, Eskilstuna\, Södermanland\, 63349\, Sweden
CATEGORIES:Dansgympa
ATTACH;FMTTYPE=image/jpeg:https://media.verdandieskilstuna.se/2024/08/Firefly-Aldre-grupp-personer-som-dansar-zumba-med-ryggen-mot-kameran-tecknade-83378.jpg
END:VEVENT
BEGIN:VEVENT
DTSTART;TZID=Europe/Stockholm:20260227T100000
DTEND;TZID=Europe/Stockholm:20260227T120000
DTSTAMP:20260425T165310
CREATED:20260106T112512Z
LAST-MODIFIED:20260106T112514Z
UID:3341-1772186400-1772193600@verdandieskilstuna.se
SUMMARY:Gubbfika
DESCRIPTION:Vi träffas\, fikar och pratar.
URL:https://verdandieskilstuna.se/aktivitetskalender/gubbfika-20/
LOCATION:Hallströmsgatan 1\, Hallströmsgatan 1\, Eskilstuna\, Södermanland\, 63349\, Sweden
CATEGORIES:Fika i lokalen
ATTACH;FMTTYPE=image/jpeg:https://media.verdandieskilstuna.se/2025/01/09d22569-891e-4cc5-8fa9-e7f4d4a05559.jpg
END:VEVENT
END:VCALENDAR