BEGIN:VCALENDAR
VERSION:2.0
PRODID:-//Verdandi Eskilstuna - ECPv6.15.20//NONSGML v1.0//EN
CALSCALE:GREGORIAN
METHOD:PUBLISH
X-ORIGINAL-URL:https://verdandieskilstuna.se
X-WR-CALDESC:Händelser för Verdandi Eskilstuna
REFRESH-INTERVAL;VALUE=DURATION:PT1H
X-Robots-Tag:noindex
X-PUBLISHED-TTL:PT1H
BEGIN:VTIMEZONE
TZID:Europe/Stockholm
BEGIN:DAYLIGHT
TZOFFSETFROM:+0100
TZOFFSETTO:+0200
TZNAME:CEST
DTSTART:20250330T010000
END:DAYLIGHT
BEGIN:STANDARD
TZOFFSETFROM:+0200
TZOFFSETTO:+0100
TZNAME:CET
DTSTART:20251026T010000
END:STANDARD
BEGIN:DAYLIGHT
TZOFFSETFROM:+0100
TZOFFSETTO:+0200
TZNAME:CEST
DTSTART:20260329T010000
END:DAYLIGHT
BEGIN:STANDARD
TZOFFSETFROM:+0200
TZOFFSETTO:+0100
TZNAME:CET
DTSTART:20261025T010000
END:STANDARD
BEGIN:DAYLIGHT
TZOFFSETFROM:+0100
TZOFFSETTO:+0200
TZNAME:CEST
DTSTART:20270328T010000
END:DAYLIGHT
BEGIN:STANDARD
TZOFFSETFROM:+0200
TZOFFSETTO:+0100
TZNAME:CET
DTSTART:20271031T010000
END:STANDARD
END:VTIMEZONE
BEGIN:VEVENT
DTSTART;TZID=Europe/Stockholm:20260301T100000
DTEND;TZID=Europe/Stockholm:20260301T120000
DTSTAMP:20260425T152539
CREATED:20260106T123850Z
LAST-MODIFIED:20260106T123851Z
UID:3391-1772359200-1772366400@verdandieskilstuna.se
SUMMARY:Dansgympa
DESCRIPTION:Söndagar: 10:00 – 12:00Vi rör oss rytmiskt efter musik– rörelse ger glädje.Kostnadsfritt för medlemmar
URL:https://verdandieskilstuna.se/aktivitetskalender/dansgympa-20/
LOCATION:Hallströmsgatan 1\, Hallströmsgatan 1\, Eskilstuna\, Södermanland\, 63349\, Sweden
CATEGORIES:Dansgympa
ATTACH;FMTTYPE=image/jpeg:https://media.verdandieskilstuna.se/2024/08/Firefly-Aldre-grupp-personer-som-dansar-zumba-med-ryggen-mot-kameran-tecknade-83378.jpg
END:VEVENT
BEGIN:VEVENT
DTSTART;TZID=Europe/Stockholm:20260306T100000
DTEND;TZID=Europe/Stockholm:20260306T120000
DTSTAMP:20260425T152539
CREATED:20260106T112551Z
LAST-MODIFIED:20260106T112553Z
UID:3343-1772791200-1772798400@verdandieskilstuna.se
SUMMARY:Gubbfika
DESCRIPTION:Vi träffas\, fikar och pratar.
URL:https://verdandieskilstuna.se/aktivitetskalender/gubbfika-21/
LOCATION:Hallströmsgatan 1\, Hallströmsgatan 1\, Eskilstuna\, Södermanland\, 63349\, Sweden
CATEGORIES:Fika i lokalen
ATTACH;FMTTYPE=image/jpeg:https://media.verdandieskilstuna.se/2025/01/09d22569-891e-4cc5-8fa9-e7f4d4a05559.jpg
END:VEVENT
BEGIN:VEVENT
DTSTART;TZID=Europe/Stockholm:20260308T100000
DTEND;TZID=Europe/Stockholm:20260308T120000
DTSTAMP:20260425T152539
CREATED:20260106T123943Z
LAST-MODIFIED:20260106T123944Z
UID:3393-1772964000-1772971200@verdandieskilstuna.se
SUMMARY:Dansgympa
DESCRIPTION:Söndagar: 10:00 – 12:00Vi rör oss rytmiskt efter musik– rörelse ger glädje.Kostnadsfritt för medlemmar
URL:https://verdandieskilstuna.se/aktivitetskalender/dansgympa-21/
LOCATION:Hallströmsgatan 1\, Hallströmsgatan 1\, Eskilstuna\, Södermanland\, 63349\, Sweden
CATEGORIES:Dansgympa
ATTACH;FMTTYPE=image/jpeg:https://media.verdandieskilstuna.se/2024/08/Firefly-Aldre-grupp-personer-som-dansar-zumba-med-ryggen-mot-kameran-tecknade-83378.jpg
END:VEVENT
BEGIN:VEVENT
DTSTART;TZID=Europe/Stockholm:20260313T100000
DTEND;TZID=Europe/Stockholm:20260313T120000
DTSTAMP:20260425T152539
CREATED:20260106T112626Z
LAST-MODIFIED:20260106T112627Z
UID:3345-1773396000-1773403200@verdandieskilstuna.se
SUMMARY:Gubbfika
DESCRIPTION:Vi träffas\, fikar och pratar.
URL:https://verdandieskilstuna.se/aktivitetskalender/gubbfika-22/
LOCATION:Hallströmsgatan 1\, Hallströmsgatan 1\, Eskilstuna\, Södermanland\, 63349\, Sweden
CATEGORIES:Fika i lokalen
END:VEVENT
BEGIN:VEVENT
DTSTART;TZID=Europe/Stockholm:20260315T100000
DTEND;TZID=Europe/Stockholm:20260315T120000
DTSTAMP:20260425T152539
CREATED:20260106T124032Z
LAST-MODIFIED:20260106T124033Z
UID:3395-1773568800-1773576000@verdandieskilstuna.se
SUMMARY:Dansgympa
DESCRIPTION:Söndagar: 10:00 – 12:00Vi rör oss rytmiskt efter musik– rörelse ger glädje.Kostnadsfritt för medlemmar
URL:https://verdandieskilstuna.se/aktivitetskalender/dansgympa-22/
LOCATION:Hallströmsgatan 1\, Hallströmsgatan 1\, Eskilstuna\, Södermanland\, 63349\, Sweden
CATEGORIES:Dansgympa
ATTACH;FMTTYPE=image/jpeg:https://media.verdandieskilstuna.se/2024/08/Firefly-Aldre-grupp-personer-som-dansar-zumba-med-ryggen-mot-kameran-tecknade-83378.jpg
END:VEVENT
BEGIN:VEVENT
DTSTART;TZID=Europe/Stockholm:20260315T150000
DTEND;TZID=Europe/Stockholm:20260315T183000
DTSTAMP:20260425T152539
CREATED:20260313T074356Z
LAST-MODIFIED:20260313T074357Z
UID:3481-1773586800-1773599400@verdandieskilstuna.se
SUMMARY:Mogendans till Junix
DESCRIPTION:Fikaservering finns
URL:https://verdandieskilstuna.se/aktivitetskalender/mogendans-till-junix-2/
LOCATION:Lagerkvistgatan\, Lagerkvistgatan 2\, Eskilstuna\, Södermanland\, 63346\, Sverige
CATEGORIES:Dansafton
ATTACH;FMTTYPE=image/jpeg:https://media.verdandieskilstuna.se/2022/06/594558ce-a6bf-4528-8497-6a8b6639b8503.jpg
END:VEVENT
BEGIN:VEVENT
DTSTART;TZID=Europe/Stockholm:20260317T140000
DTEND;TZID=Europe/Stockholm:20260317T160000
DTSTAMP:20260425T152539
CREATED:20260313T094239Z
LAST-MODIFIED:20260313T094241Z
UID:3530-1773756000-1773763200@verdandieskilstuna.se
SUMMARY:Canasta
DESCRIPTION:Tisdagar jämna veckorVi träffas och lär oss spela kortspelet Canasta.Kostnadsfritt för medlemmarÖvriga 30:-/tillfälle
URL:https://verdandieskilstuna.se/aktivitetskalender/canasta-5/
LOCATION:Hallströmsgatan 1\, Hallströmsgatan 1\, Eskilstuna\, Södermanland\, 63349\, Sweden
CATEGORIES:Canasta
ATTACH;FMTTYPE=image/jpeg:https://media.verdandieskilstuna.se/2025/01/f344ce85-6ecb-459e-b35e-a3fb548ca140.jpg
END:VEVENT
BEGIN:VEVENT
DTSTART;TZID=Europe/Stockholm:20260320T100000
DTEND;TZID=Europe/Stockholm:20260320T120000
DTSTAMP:20260425T152539
CREATED:20260106T112657Z
LAST-MODIFIED:20260106T112658Z
UID:3347-1774000800-1774008000@verdandieskilstuna.se
SUMMARY:Gubbfika
DESCRIPTION:Vi träffas\, fikar och pratar.
URL:https://verdandieskilstuna.se/aktivitetskalender/gubbfika-23/
LOCATION:Hallströmsgatan 1\, Hallströmsgatan 1\, Eskilstuna\, Södermanland\, 63349\, Sweden
CATEGORIES:Fika i lokalen
END:VEVENT
BEGIN:VEVENT
DTSTART;TZID=Europe/Stockholm:20260322T100000
DTEND;TZID=Europe/Stockholm:20260322T120000
DTSTAMP:20260425T152539
CREATED:20260106T124351Z
LAST-MODIFIED:20260106T124355Z
UID:3399-1774173600-1774180800@verdandieskilstuna.se
SUMMARY:Dansgympa
DESCRIPTION:Söndagar: 10:00 – 12:00Vi rör oss rytmiskt efter musik– rörelse ger glädje.Kostnadsfritt för medlemmar
URL:https://verdandieskilstuna.se/aktivitetskalender/dansgympa-24/
LOCATION:Hallströmsgatan 1\, Hallströmsgatan 1\, Eskilstuna\, Södermanland\, 63349\, Sweden
CATEGORIES:Dansgympa
ATTACH;FMTTYPE=image/jpeg:https://media.verdandieskilstuna.se/2024/08/Firefly-Aldre-grupp-personer-som-dansar-zumba-med-ryggen-mot-kameran-tecknade-83378.jpg
END:VEVENT
BEGIN:VEVENT
DTSTART;TZID=Europe/Stockholm:20260327T100000
DTEND;TZID=Europe/Stockholm:20260327T120000
DTSTAMP:20260425T152539
CREATED:20260106T112739Z
LAST-MODIFIED:20260106T112740Z
UID:3349-1774605600-1774612800@verdandieskilstuna.se
SUMMARY:Gubbfika
DESCRIPTION:Vi träffas\, fikar och pratar.
URL:https://verdandieskilstuna.se/aktivitetskalender/gubbfika-24/
LOCATION:Hallströmsgatan 1\, Hallströmsgatan 1\, Eskilstuna\, Södermanland\, 63349\, Sweden
CATEGORIES:Fika i lokalen
ATTACH;FMTTYPE=image/jpeg:https://media.verdandieskilstuna.se/2025/01/09d22569-891e-4cc5-8fa9-e7f4d4a05559.jpg
END:VEVENT
BEGIN:VEVENT
DTSTART;TZID=Europe/Stockholm:20260329T100000
DTEND;TZID=Europe/Stockholm:20260329T120000
DTSTAMP:20260425T152539
CREATED:20260106T124231Z
LAST-MODIFIED:20260106T124232Z
UID:3397-1774778400-1774785600@verdandieskilstuna.se
SUMMARY:Dansgympa
DESCRIPTION:Söndagar: 10:00 – 12:00Vi rör oss rytmiskt efter musik– rörelse ger glädje.Kostnadsfritt för medlemmar
URL:https://verdandieskilstuna.se/aktivitetskalender/dansgympa-23/
LOCATION:Hallströmsgatan 1\, Hallströmsgatan 1\, Eskilstuna\, Södermanland\, 63349\, Sweden
CATEGORIES:Dansgympa
ATTACH;FMTTYPE=image/jpeg:https://media.verdandieskilstuna.se/2024/08/Firefly-Aldre-grupp-personer-som-dansar-zumba-med-ryggen-mot-kameran-tecknade-83378.jpg
END:VEVENT
BEGIN:VEVENT
DTSTART;TZID=Europe/Stockholm:20260331T140000
DTEND;TZID=Europe/Stockholm:20260331T160000
DTSTAMP:20260425T152539
CREATED:20260313T094342Z
LAST-MODIFIED:20260313T094343Z
UID:3532-1774965600-1774972800@verdandieskilstuna.se
SUMMARY:Canasta
DESCRIPTION:Tisdagar jämna veckorVi träffas och lär oss spela kortspelet Canasta.Kostnadsfritt för medlemmarÖvriga 30:-/tillfälle
URL:https://verdandieskilstuna.se/aktivitetskalender/canasta-6/
LOCATION:Hallströmsgatan 1\, Hallströmsgatan 1\, Eskilstuna\, Södermanland\, 63349\, Sweden
CATEGORIES:Canasta
ATTACH;FMTTYPE=image/jpeg:https://media.verdandieskilstuna.se/2025/01/f344ce85-6ecb-459e-b35e-a3fb548ca140.jpg
END:VEVENT
END:VCALENDAR