BEGIN:VCALENDAR
VERSION:2.0
PRODID:-//Verdandi Eskilstuna - ECPv6.15.20//NONSGML v1.0//EN
CALSCALE:GREGORIAN
METHOD:PUBLISH
X-WR-CALNAME:Verdandi Eskilstuna
X-ORIGINAL-URL:https://verdandieskilstuna.se
X-WR-CALDESC:Händelser för Verdandi Eskilstuna
REFRESH-INTERVAL;VALUE=DURATION:PT1H
X-Robots-Tag:noindex
X-PUBLISHED-TTL:PT1H
BEGIN:VTIMEZONE
TZID:Europe/Stockholm
BEGIN:DAYLIGHT
TZOFFSETFROM:+0100
TZOFFSETTO:+0200
TZNAME:CEST
DTSTART:20250330T010000
END:DAYLIGHT
BEGIN:STANDARD
TZOFFSETFROM:+0200
TZOFFSETTO:+0100
TZNAME:CET
DTSTART:20251026T010000
END:STANDARD
BEGIN:DAYLIGHT
TZOFFSETFROM:+0100
TZOFFSETTO:+0200
TZNAME:CEST
DTSTART:20260329T010000
END:DAYLIGHT
BEGIN:STANDARD
TZOFFSETFROM:+0200
TZOFFSETTO:+0100
TZNAME:CET
DTSTART:20261025T010000
END:STANDARD
BEGIN:DAYLIGHT
TZOFFSETFROM:+0100
TZOFFSETTO:+0200
TZNAME:CEST
DTSTART:20270328T010000
END:DAYLIGHT
BEGIN:STANDARD
TZOFFSETFROM:+0200
TZOFFSETTO:+0100
TZNAME:CET
DTSTART:20271031T010000
END:STANDARD
END:VTIMEZONE
BEGIN:VEVENT
DTSTART;TZID=Europe/Stockholm:20260602T180000
DTEND;TZID=Europe/Stockholm:20260602T203000
DTSTAMP:20260425T145534
CREATED:20260421T112757Z
LAST-MODIFIED:20260421T113122Z
UID:3583-1780423200-1780432200@verdandieskilstuna.se
SUMMARY:Historiska Klubben: Torshällas industrihistoria
DESCRIPTION:Samling vid Coop Torshälla \n\n\n\nDenna kväll kommer vi gå i fotstegen av Torshällas industrihistoria. Vi kommer gå förbi fabrikerna och andas atmosfären som drev industrialismen i Torshälla framåt. Under rundturen tar vi en fika på läglig plats så medtag egen fikakorg. 
URL:https://verdandieskilstuna.se/aktivitetskalender/torshallas-industrihistoria/
CATEGORIES:Utflykter
ATTACH;FMTTYPE=image/png:https://media.verdandieskilstuna.se/2026/04/uts-holm03.png
END:VEVENT
BEGIN:VEVENT
DTSTART;TZID=Europe/Stockholm:20260605T100000
DTEND;TZID=Europe/Stockholm:20260605T120000
DTSTAMP:20260425T145534
CREATED:20260319T094246Z
LAST-MODIFIED:20260319T094249Z
UID:3558-1780653600-1780660800@verdandieskilstuna.se
SUMMARY:Gubbfika
DESCRIPTION:Vi träffas\, fikar och pratar.
URL:https://verdandieskilstuna.se/aktivitetskalender/gubbfika-32/
LOCATION:Hallströmsgatan 1\, Hallströmsgatan 1\, Eskilstuna\, Södermanland\, 63349\, Sweden
CATEGORIES:Fika i lokalen
ATTACH;FMTTYPE=image/jpeg:https://media.verdandieskilstuna.se/2025/01/09d22569-891e-4cc5-8fa9-e7f4d4a05559.jpg
END:VEVENT
BEGIN:VEVENT
DTSTART;TZID=Europe/Stockholm:20260607T150000
DTEND;TZID=Europe/Stockholm:20260607T183000
DTSTAMP:20260425T145534
CREATED:20260226T142919Z
LAST-MODIFIED:20260313T080603Z
UID:3432-1780844400-1780857000@verdandieskilstuna.se
SUMMARY:Logdans till Sandbergs
DESCRIPTION:
URL:https://verdandieskilstuna.se/aktivitetskalender/sandbergs/
LOCATION:Dahls Loge\, Dahls Gård\, Katrineholm\, Södermanland\, 64196\, Sweden
CATEGORIES:Logdans
END:VEVENT
BEGIN:VEVENT
DTSTART;TZID=Europe/Stockholm:20260609T180000
DTEND;TZID=Europe/Stockholm:20260609T203000
DTSTAMP:20260425T145534
CREATED:20260421T112916Z
LAST-MODIFIED:20260421T113101Z
UID:3586-1781028000-1781037000@verdandieskilstuna.se
SUMMARY:Historiska Klubben: Municipalsamhället Nyfors
DESCRIPTION:Samling vid Järntorget \n\n\n\nDenna kväll kommer vi passera genom municipalsamhället Nyfors. Vi går en rundtur genom området och besöker några av de platser som formade Eskilstuna. Under rundturen tar vi en fika på läglig plats så medtag egen fikakorg. 
URL:https://verdandieskilstuna.se/aktivitetskalender/municipalsamhallet-nyfors/
ATTACH;FMTTYPE=image/jpeg:https://media.verdandieskilstuna.se/2026/04/nyfors2_1300x650.jpg
END:VEVENT
BEGIN:VEVENT
DTSTART;TZID=Europe/Stockholm:20260614T150000
DTEND;TZID=Europe/Stockholm:20260614T183000
DTSTAMP:20260425T145534
CREATED:20260226T142919Z
LAST-MODIFIED:20260313T080617Z
UID:3433-1781449200-1781461800@verdandieskilstuna.se
SUMMARY:Logdans till Kent & Henke
DESCRIPTION:
URL:https://verdandieskilstuna.se/aktivitetskalender/kent-henke/
LOCATION:Dahls Loge\, Dahls Gård\, Katrineholm\, Södermanland\, 64196\, Sweden
CATEGORIES:Logdans
ATTACH;FMTTYPE=image/jpeg:https://media.verdandieskilstuna.se/2024/07/448347530_10219300842910423_1856412899940176396_n.jpg
END:VEVENT
BEGIN:VEVENT
DTSTART;TZID=Europe/Stockholm:20260621T130000
DTEND;TZID=Europe/Stockholm:20260621T150000
DTSTAMP:20260425T145534
CREATED:20260319T094946Z
LAST-MODIFIED:20260319T095048Z
UID:3562-1782046800-1782054000@verdandieskilstuna.se
SUMMARY:Midsommarfirande
DESCRIPTION:Söndag 26 juni 13:00Dahls LogeNordankärr Katrineholm \n\n\n\nFöreningen bjuder på sommarlunch och fika \n\n\n\nEntré till dansen betalar man själv
URL:https://verdandieskilstuna.se/aktivitetskalender/midsommarfirande/
LOCATION:Dahls Loge\, Dahls Gård\, Katrineholm\, Södermanland\, 64196\, Sweden
CATEGORIES:Gruppaktivitet
ATTACH;FMTTYPE=image/jpeg:https://media.verdandieskilstuna.se/2026/03/summer-solstice-day-midsummer-litha-260nw-2639473801-kopia.jpg
END:VEVENT
BEGIN:VEVENT
DTSTART;TZID=Europe/Stockholm:20260621T150000
DTEND;TZID=Europe/Stockholm:20260621T183000
DTSTAMP:20260425T145534
CREATED:20260226T142920Z
LAST-MODIFIED:20260313T084508Z
UID:3434-1782054000-1782066600@verdandieskilstuna.se
SUMMARY:Logdans till Gideons
DESCRIPTION:
URL:https://verdandieskilstuna.se/aktivitetskalender/gideons/
LOCATION:Dahls Loge\, Dahls Gård\, Katrineholm\, Södermanland\, 64196\, Sweden
CATEGORIES:Logdans
ATTACH;FMTTYPE=image/jpeg:https://media.verdandieskilstuna.se/2025/01/dansband-sam-gideonsloggo.jpg
END:VEVENT
END:VCALENDAR