BEGIN:VCALENDAR
VERSION:2.0
PRODID:-//Verdandi Eskilstuna - ECPv6.15.20//NONSGML v1.0//EN
CALSCALE:GREGORIAN
METHOD:PUBLISH
X-WR-CALNAME:Verdandi Eskilstuna
X-ORIGINAL-URL:https://verdandieskilstuna.se
X-WR-CALDESC:Händelser för Verdandi Eskilstuna
REFRESH-INTERVAL;VALUE=DURATION:PT1H
X-Robots-Tag:noindex
X-PUBLISHED-TTL:PT1H
BEGIN:VTIMEZONE
TZID:Europe/Stockholm
BEGIN:DAYLIGHT
TZOFFSETFROM:+0100
TZOFFSETTO:+0200
TZNAME:CEST
DTSTART:20250330T010000
END:DAYLIGHT
BEGIN:STANDARD
TZOFFSETFROM:+0200
TZOFFSETTO:+0100
TZNAME:CET
DTSTART:20251026T010000
END:STANDARD
BEGIN:DAYLIGHT
TZOFFSETFROM:+0100
TZOFFSETTO:+0200
TZNAME:CEST
DTSTART:20260329T010000
END:DAYLIGHT
BEGIN:STANDARD
TZOFFSETFROM:+0200
TZOFFSETTO:+0100
TZNAME:CET
DTSTART:20261025T010000
END:STANDARD
BEGIN:DAYLIGHT
TZOFFSETFROM:+0100
TZOFFSETTO:+0200
TZNAME:CEST
DTSTART:20270328T010000
END:DAYLIGHT
BEGIN:STANDARD
TZOFFSETFROM:+0200
TZOFFSETTO:+0100
TZNAME:CET
DTSTART:20271031T010000
END:STANDARD
END:VTIMEZONE
BEGIN:VEVENT
DTSTART;TZID=Europe/Stockholm:20260703T120000
DTEND;TZID=Europe/Stockholm:20260703T150000
DTSTAMP:20260425T162318
CREATED:20260319T093217Z
LAST-MODIFIED:20260319T093219Z
UID:3546-1783080000-1783090800@verdandieskilstuna.se
SUMMARY:Gubbfikat bjuder in till sillsexa
DESCRIPTION:Fredag 3 juli 12:00Föreningslokalen \n\n\n\nKostnad: 40:-Anmälan senast 29/6
URL:https://verdandieskilstuna.se/aktivitetskalender/gubbfikat-bjuder-in-till-sillsexa/
ATTACH;FMTTYPE=image/jpeg:https://media.verdandieskilstuna.se/2025/01/09d22569-891e-4cc5-8fa9-e7f4d4a05559.jpg
END:VEVENT
BEGIN:VEVENT
DTSTART;TZID=Europe/Stockholm:20260706T130000
DTEND;TZID=Europe/Stockholm:20260706T170000
DTSTAMP:20260425T162318
CREATED:20260319T094444Z
LAST-MODIFIED:20260319T094446Z
UID:3560-1783342800-1783357200@verdandieskilstuna.se
SUMMARY:Picknik i Sundbyholm
DESCRIPTION:Samling i Slottsparken \n\n\n\nMedtag egen picknickkorgIngen anmälan krävs
URL:https://verdandieskilstuna.se/aktivitetskalender/picknik-i-sundbyholm/
LOCATION:Sundbyholm\, Sundbyholms Slott\, Eskilstuna\, Södermanland\, 63508\, Sweden
CATEGORIES:Utflykter
ATTACH;FMTTYPE=image/jpeg:https://media.verdandieskilstuna.se/2025/03/02f2fbfa-1bcd-42c8-aa41-b1badcb17308.jpg
END:VEVENT
BEGIN:VEVENT
DTSTART;TZID=Europe/Stockholm:20260712T150000
DTEND;TZID=Europe/Stockholm:20260712T183000
DTSTAMP:20260425T162318
CREATED:20260226T142922Z
LAST-MODIFIED:20260313T080632Z
UID:3435-1783868400-1783881000@verdandieskilstuna.se
SUMMARY:Logdans till Ola & Jag
DESCRIPTION:
URL:https://verdandieskilstuna.se/aktivitetskalender/ola-jag/
LOCATION:Dahls Loge\, Dahls Gård\, Katrineholm\, Södermanland\, 64196\, Sweden
CATEGORIES:Logdans
ATTACH;FMTTYPE=image/jpeg:https://media.verdandieskilstuna.se/2026/02/olaojag.jpg
END:VEVENT
BEGIN:VEVENT
DTSTART;TZID=Europe/Stockholm:20260719T150000
DTEND;TZID=Europe/Stockholm:20260719T183000
DTSTAMP:20260425T162318
CREATED:20260226T142922Z
LAST-MODIFIED:20260313T080647Z
UID:3436-1784473200-1784485800@verdandieskilstuna.se
SUMMARY:Logdans till Jive
DESCRIPTION:
URL:https://verdandieskilstuna.se/aktivitetskalender/jive/
LOCATION:Dahls Loge\, Dahls Gård\, Katrineholm\, Södermanland\, 64196\, Sweden
CATEGORIES:Logdans
ATTACH;FMTTYPE=image/jpeg:https://media.verdandieskilstuna.se/2026/02/Jive1.jpg
END:VEVENT
BEGIN:VEVENT
DTSTART;TZID=Europe/Stockholm:20260726T150000
DTEND;TZID=Europe/Stockholm:20260726T183000
DTSTAMP:20260425T162318
CREATED:20260226T142922Z
LAST-MODIFIED:20260313T080659Z
UID:3437-1785078000-1785090600@verdandieskilstuna.se
SUMMARY:Logdans till Pär Norlings
DESCRIPTION:
URL:https://verdandieskilstuna.se/aktivitetskalender/par-norlings/
LOCATION:Dahls Loge\, Dahls Gård\, Katrineholm\, Södermanland\, 64196\, Sweden
CATEGORIES:Logdans
ATTACH;FMTTYPE=image/jpeg:https://media.verdandieskilstuna.se/2026/02/641573583_1482786880518934_2861359168677282737_n.jpg
END:VEVENT
END:VCALENDAR