BEGIN:VCALENDAR
VERSION:2.0
PRODID:-//Verdandi Eskilstuna - ECPv6.15.20//NONSGML v1.0//EN
CALSCALE:GREGORIAN
METHOD:PUBLISH
X-WR-CALNAME:Verdandi Eskilstuna
X-ORIGINAL-URL:https://verdandieskilstuna.se
X-WR-CALDESC:Händelser för Verdandi Eskilstuna
REFRESH-INTERVAL;VALUE=DURATION:PT1H
X-Robots-Tag:noindex
X-PUBLISHED-TTL:PT1H
BEGIN:VTIMEZONE
TZID:Europe/Stockholm
BEGIN:DAYLIGHT
TZOFFSETFROM:+0100
TZOFFSETTO:+0200
TZNAME:CEST
DTSTART:20250330T010000
END:DAYLIGHT
BEGIN:STANDARD
TZOFFSETFROM:+0200
TZOFFSETTO:+0100
TZNAME:CET
DTSTART:20251026T010000
END:STANDARD
BEGIN:DAYLIGHT
TZOFFSETFROM:+0100
TZOFFSETTO:+0200
TZNAME:CEST
DTSTART:20260329T010000
END:DAYLIGHT
BEGIN:STANDARD
TZOFFSETFROM:+0200
TZOFFSETTO:+0100
TZNAME:CET
DTSTART:20261025T010000
END:STANDARD
BEGIN:DAYLIGHT
TZOFFSETFROM:+0100
TZOFFSETTO:+0200
TZNAME:CEST
DTSTART:20270328T010000
END:DAYLIGHT
BEGIN:STANDARD
TZOFFSETFROM:+0200
TZOFFSETTO:+0100
TZNAME:CET
DTSTART:20271031T010000
END:STANDARD
END:VTIMEZONE
BEGIN:VEVENT
DTSTART;TZID=Europe/Stockholm:20260802T140000
DTEND;TZID=Europe/Stockholm:20260802T183000
DTSTAMP:20260425T174202
CREATED:20260226T142922Z
LAST-MODIFIED:20260313T081611Z
UID:3438-1785679200-1785695400@verdandieskilstuna.se
SUMMARY:Logdans till Herrgårds & Stickanz
DESCRIPTION:
URL:https://verdandieskilstuna.se/aktivitetskalender/herrgards-stickanz/
LOCATION:Dahls Loge\, Dahls Gård\, Katrineholm\, Södermanland\, 64196\, Sweden
CATEGORIES:Logdans
END:VEVENT
BEGIN:VEVENT
DTSTART;TZID=Europe/Stockholm:20260804T160000
DTEND;TZID=Europe/Stockholm:20260804T180000
DTSTAMP:20260425T174202
CREATED:20260319T095512Z
LAST-MODIFIED:20260319T095515Z
UID:3565-1785859200-1785866400@verdandieskilstuna.se
SUMMARY:Grillning i Vilsta
DESCRIPTION:Samling på baksidan av Vilsta raststuga \n\n\n\nMedtag det du vill grillaIngen anmälan krävs
URL:https://verdandieskilstuna.se/aktivitetskalender/grillning-i-vilsta/
LOCATION:Vilsta\, Vasavägen 80\, Eskilstuna\, 633 58\, Sweden
CATEGORIES:Gruppaktivitet
ATTACH;FMTTYPE=image/jpeg:https://media.verdandieskilstuna.se/2026/03/pexels-photo-1482803-scaled.jpeg
END:VEVENT
BEGIN:VEVENT
DTSTART;TZID=Europe/Stockholm:20260809T150000
DTEND;TZID=Europe/Stockholm:20260809T183000
DTSTAMP:20260425T174202
CREATED:20260226T142922Z
LAST-MODIFIED:20260313T084321Z
UID:3439-1786287600-1786300200@verdandieskilstuna.se
SUMMARY:Logdans till Orient
DESCRIPTION:
URL:https://verdandieskilstuna.se/aktivitetskalender/orient/
LOCATION:Dahls Loge\, Dahls Gård\, Katrineholm\, Södermanland\, 64196\, Sweden
CATEGORIES:Logdans
ATTACH;FMTTYPE=image/jpeg:https://media.verdandieskilstuna.se/2026/02/644482708_1549143457212357_9069167119429721050_n.jpg
END:VEVENT
BEGIN:VEVENT
DTSTART;TZID=Europe/Stockholm:20260816T150000
DTEND;TZID=Europe/Stockholm:20260816T183000
DTSTAMP:20260425T174202
CREATED:20260226T142938Z
LAST-MODIFIED:20260313T084359Z
UID:3445-1786892400-1786905000@verdandieskilstuna.se
SUMMARY:Logdans till Stefan & Tony
DESCRIPTION:
URL:https://verdandieskilstuna.se/aktivitetskalender/stefan-tony/
LOCATION:Dahls Loge\, Dahls Gård\, Katrineholm\, Södermanland\, 64196\, Sweden
CATEGORIES:Logdans
END:VEVENT
BEGIN:VEVENT
DTSTART;TZID=Europe/Stockholm:20260823T150000
DTEND;TZID=Europe/Stockholm:20260823T183000
DTSTAMP:20260425T174202
CREATED:20260226T142938Z
LAST-MODIFIED:20260313T084417Z
UID:3446-1787497200-1787509800@verdandieskilstuna.se
SUMMARY:Logdans till Micke Ahlgrens
DESCRIPTION:
URL:https://verdandieskilstuna.se/aktivitetskalender/micke-ahlgrens/
LOCATION:Dahls Loge\, Dahls Gård\, Katrineholm\, Södermanland\, 64196\, Sweden
CATEGORIES:Logdans
ATTACH;FMTTYPE=image/jpeg:https://media.verdandieskilstuna.se/2025/03/mickeahlgrens.jpg
END:VEVENT
BEGIN:VEVENT
DTSTART;TZID=Europe/Stockholm:20260830T150000
DTEND;TZID=Europe/Stockholm:20260830T183000
DTSTAMP:20260425T174202
CREATED:20260226T142938Z
LAST-MODIFIED:20260313T084430Z
UID:3447-1788102000-1788114600@verdandieskilstuna.se
SUMMARY:Logdans till Engdahls
DESCRIPTION:
URL:https://verdandieskilstuna.se/aktivitetskalender/engdahls/
LOCATION:Dahls Loge\, Dahls Gård\, Katrineholm\, Södermanland\, 64196\, Sweden
CATEGORIES:Logdans
ATTACH;FMTTYPE=image/jpeg:https://media.verdandieskilstuna.se/2026/02/12474_web.jpg
END:VEVENT
END:VCALENDAR